Workbook

Sheet 1.Provozní příjmy a výdaje
A1: 1. PROVOZNÍ PŘÍJMY A VÝDAJE dle středisek (v Kč)
A3: ODD§ | B3: TEXT | C3: PŘÍJMY | D3: VÝDAJE
A4: 2143 | B4: Cestovní ruch | C4: 0 | D4: ='1.2.Výdaje dle položek'!H9 -> 525000
A5: 6223 | B5: Mezinárodní spolupráce | C5: 0 | D5: ='1.2.Výdaje dle položek'!H15 -> 435000
B6: CESTOVNÍ RUCH A ZAHRANIČNÍ SPOLUPRÁCE | C6: 0 | D6: =SUM(D4:D5) -> 960000
A7: 3111 | B7: Mateřské školy | C7: ='1.1.Příjmy dle položek'!H6 -> 14000 | D7: ='1.2.Výdaje dle položek'!H23 -> 4370000
A8: 3113 | B8: Základní školy | C8: ='1.1.Příjmy dle položek'!H7 -> 14000 | D8: ='1.2.Výdaje dle položek'!H30 -> 19201000
A9: 3141 | B9: ŠJ 1. máje | C9: 0 | D9: ='1.2.Výdaje dle položek'!H32 -> 1646000
A10: 3231 | B10: Základní umělecké školy | C10: ='1.1.Příjmy dle položek'!H8 -> 169000 | D10: ='1.2.Výdaje dle položek'!H34 -> 150000
A11: 3299 | B11: Granty vzdělávání | C11: 0 | D11: ='1.2.Výdaje dle položek'!H36 -> 150000
A12: 3421 | B12: Dům dětí a mládeže | C12: ='1.1.Příjmy dle položek'!H9 -> 18000 | D12: ='1.2.Výdaje dle položek'!H39 -> 1178000
B13: ŠKOLSTVÍ | C13: =SUM(C7:C12) -> 215000 | D13: =SUM(D7:D12) -> 26695000
A14: 3311 | B14: Divadelní činnost | C14: 0 | D14: ='1.2.Výdaje dle položek'!H42 -> 600000
A15: 3319 | B15: Kronika | C15: 0 | D15: ='1.2.Výdaje dle položek'!H47 -> 80000
A16: 3322 | B16: Zachování a obnova kulturních památek | C16: 0 | D16: ='1.2.Výdaje dle položek'!H52 -> 877000
A17: 3326 | B17: Zachování památek místního významu | C17: 0 | D17: ='1.2.Výdaje dle položek'!H54 -> 200000
A18: 3392 | B18: Městská kulturní zařízení | C18: 0 | D18: ='1.2.Výdaje dle položek'!H56 -> 14820000
A19: 3392 | B19: Příspěvky a granty kultura | C19: 0 | D19: ='1.2.Výdaje dle položek'!H59 -> 1105000
B20: KULTURA | C20: =SUM(C15:C19) -> 0 | D20: =SUM(D14:D19) -> 17682000
A21: 3341 | B21: Televizní vysílání | C21: 0 | D21: ='1.2.Výdaje dle položek'!H62 -> 1050000
A22: 3349 | B22: Ostatní záležitosti sdělovacích prostředků | C22: 0 | D22: ='1.2.Výdaje dle položek'!H66 -> 410000
A23: 3392 | B23: Zájmová činnost v kultuře | C23: 0 | D23: ='1.2.Výdaje dle položek'!H74 -> 250000
A24: 3399 | B24: Občanské záležitosti | C24: 0 | D24: ='1.2.Výdaje dle položek'!H81 -> 500000
B25: PREZENTACE MĚSTA | C25: 0 | D25: =SUM(D21:D24) -> 2210000
A26: 3412 | B26: Sportovní zařízení | C26: 0 | D26: ='1.2.Výdaje dle položek'!H87 -> 753600
A27: 3419 | B27: Sportovec roku | C27: 0 | D27: ='1.2.Výdaje dle položek'!H94 -> 370000
A28: 3419 | B28: Granty a příspěvky tělovýchova | C28: 0 | D28: ='1.2.Výdaje dle položek'!H100 -> 8350000
A29: 3419 | B29: Dotace mimo grantové řízení | C29: 0 | D29: ='1.2.Výdaje dle položek'!H104 -> 2520000
A30: 3429 | B30: Bazén | C30: 0 | D30: ='1.2.Výdaje dle položek'!H106 -> 4013400
B31: SPORT | C31: 0 | D31: =SUM(D26:D30) -> 16007000
A32: 4339 | B32: Výkon pěstounské péče | C32: 0 | D32: ='1.2.Výdaje dle položek'!H116 -> 312000
A33: 4341 | B33: Sociální pomoc osobám v hmot. nouzi - Charita | C33: 0 | D33: ='1.2.Výdaje dle položek'!H118 -> 300000
A34: 4357 | B34: Domov seniorů | C34: 0 | D34: ='1.2.Výdaje dle položek'!H122 -> 9004000
A35: 4359 | B35: Klub seniorů | C35: 0 | D35: ='1.2.Výdaje dle položek'!H133 -> 580000
A36: 4374 | B36: Azylové domy - Elim | C36: 0 | D36: ='1.2.Výdaje dle položek'!H135 -> 300000
A37: 4379 | B37: Granty a příspěvky v oblasti sociální a zdravotní | C37: 0 | D37: ='1.2.Výdaje dle položek'!H138 -> 600000
A38: 4399 | B38: Ostatní záležitosti soc.věcí | C38: 0 | D38: ='1.2.Výdaje dle položek'!H146 -> 180000
A39: 6171 | B39: OSPOD, sociální práce | C39: 0 | D39: ='1.2.Výdaje dle položek'!H156+'1.2.Výdaje dle položek'!H162 -> 561000
A40: 6399 | B40: Ostatní příjmy - dotace | C40: ='1.1.Příjmy dle položek'!H18 -> 6500000 | D40: 0
B41: SOCIÁLNÍ ZÁLEŽITOSTI | C41: =SUM(C32:C40) -> 6500000 | D41: =SUM(D32:D39) -> 11837000
A42: 3612 | B42: Celkem bytové hospodářství | C42: ='1.1.Příjmy dle položek'!H22 -> 5340000 | D42: ='1.2.Výdaje dle položek'!H182 -> 6350000
A43: 3613 | B43: Nebytové hospodářství | C43: ='1.1.Příjmy dle položek'!H25 -> 4080000 | D43: ='1.2.Výdaje dle položek'!H208 -> 4707000
A44: 3639 | B44: Pozemky | C44: ='1.1.Příjmy dle položek'!H26 -> 1700000 | D44: ='1.2.Výdaje dle položek'!H214 -> 950000
B45: NAKLÁDÁNÍ S NEMOVITOSTMI | C45: =SUM(C42:C44) -> 11120000 | D45: =SUM(D42:D44) -> 12007000
A46: 2212 | B46: Silnice | C46: 0 | D46: ='1.2.Výdaje dle položek'!H225 -> 12786000
A47: 2219 | B47: Parkovací systém | C47: ='1.1.Příjmy dle položek'!H28 -> 2700000 | D47: ='1.2.Výdaje dle položek'!H229 -> 1612000
A48: 2219 | B48: Chodníky | C48: 0 | D48: ='1.2.Výdaje dle položek'!H236 -> 7896000
B49: KOMUNIKACE | C49: =SUM(C46:C48) -> 2700000 | D49: =SUM(D46:D48) -> 22294000
A50: 2223 | B50: Bezpečnost silničního provozu | C50: 0 | D50: ='1.2.Výdaje dle položek'!H239 -> 95000
A51: 2292 | B51: Provoz veřejné silniční dopravy | C51: 0 | D51: ='1.2.Výdaje dle položek'!H244 -> 16995000
B52: DOPRAVA | C52: 0 | D52: =SUM(D50:D51) -> 17090000
A53: 2141 | B53: Tržnice, ochrana spotřebitelů | C53: ='1.1.Příjmy dle položek'!H32 -> 80000 | D53: ='1.2.Výdaje dle položek'!H251 -> 143000
A54: 2169 | B54: Stavební úřad | C54: 0 | D54: ='1.2.Výdaje dle položek'!H253 -> 200000
A55: 3631 | B55: Veřejné osvětlení | C55: 0 | D55: ='1.2.Výdaje dle položek'!H256 -> 9069000
A56: 3632 | B56: Pohřebnictví | C56: ='1.1.Příjmy dle položek'!H33 -> 800000 | D56: ='1.2.Výdaje dle položek'!H266 -> 3287000
A57: 3635 | B57: Územní plánování | C57: 0 | D57: ='1.2.Výdaje dle položek'!H269 -> 470000
A58: 3636 | B58: Příprava akcí, poradenství Odbor rozvoje města | C58: 0 | D58: ='1.2.Výdaje dle položek'!H272 -> 825000
A59: 3636 | B59: Příprava projektů, dotací podpory rozvoje říz.m. | C59: 0 | D59: ='1.2.Výdaje dle položek'!H277 -> 665000
A60: 3639 | B60: Příprava investic Odbor investiční | C60: 0 | D60: ='1.2.Výdaje dle položek'!H281 -> 350000
A61: 3699 | B61: Mobiliář | C61: 0 | D61: ='1.2.Výdaje dle položek'!H287 -> 2138000
A62: 3745 | B62: Veřejná zeleň | C62: 0 | D62: ='1.2.Výdaje dle položek'!H304 -> 12252000
B63: KOMUNÁLNÍ SLUŽBY A ÚZEMNÍ ROZVOJ | C63: =SUM(C53:C62) -> 880000 | D63: =SUM(D53:D62) -> 29399000
B64: Poplatek za komunální odpad | C64: ='1.1.Příjmy dle položek'!H35 -> 9400000
A65: 3722 | B65: Sběr a svoz komunálních odpadů | C65: 0 | D65: ='1.2.Výdaje dle položek'!H311 -> 14854000
A66: 3723 | B66: Sběr a svoz ostatních odpadů | C66: ='1.1.Příjmy dle položek'!H36 -> 180000
A67: 3724 | B67: Využívání a zneškodňování nebezpečných odpadů | C67: 0 | D67: ='1.2.Výdaje dle položek'!H313 -> 58000
A68: 3725 | B68: Tříděný odpad | C68: ='1.1.Příjmy dle položek'!H37 -> 1900000 | D68: ='1.2.Výdaje dle položek'!H318 -> 13011000
A69: 3727 | B69: Prevence vzniku odpadů | C69: 0 | D69: ='1.2.Výdaje dle položek'!H321 -> 332000
A70: 3729 | B70: Černé skládky | C70: 0 | D70: ='1.2.Výdaje dle položek'!H324 -> 117000
B71: ODPADY | C71: =SUM(C64:C70) -> 11480000 | D71: =SUM(D64:D70) -> 28372000
A72: 5273 | B72: Krizové řízení | C72: 0 | D72: ='1.2.Výdaje dle položek'!H330 -> 20000
A73: 5512 | B73: Požární ochrana | C73: ='1.1.Příjmy dle položek'!H39 -> 40000 | D73: ='1.2.Výdaje dle položek'!H350 -> 1380000
B74: KRIZOVÉ ŘÍZENÍ A POŽÁRNÍ OCHRANA | C74: =SUM(C72:C73) -> 40000 | D74: =SUM(D72:D73) -> 1400000
A75: 5311 | B75: Bezpečnost a veřejný pořádek | C75: ='1.1.Příjmy dle položek'!H41 -> 250000 | D75: ='1.2.Výdaje dle položek'!H379 -> 21710000
B76: MĚSTSKÁ POLICIE | C76: =SUM(C75) -> 250000 | D76: =SUM(D75) -> 21710000
A77: 3699 | B77: Osadní výbor Drahotuše | C77: 0 | D77: ='1.2.Výdaje dle položek'!H392 -> 955000
A78: 3699 | B78: Osadní výbor Lhotka | C78: 0 | D78: ='1.2.Výdaje dle položek'!H397 -> 145000
A79: 3699 | B79: Osadní výbor Rybáře | C79: 0 | D79: ='1.2.Výdaje dle položek'!H401 -> 130000
A80: 3699 | B80: Osadní výbor Slavíč | C80: 0 | D80: ='1.2.Výdaje dle položek'!H411 -> 260000
A81: 3699 | B81: Osadní výbor Středolesí | C81: 0 | D81: ='1.2.Výdaje dle položek'!H419 -> 130000
A82: 3699 | B82: Osadní výbor Uhřínov | C82: 0 | D82: ='1.2.Výdaje dle položek'!H427 -> 140000
A83: 3699 | B83: Osadní výbor Velká | C83: 0 | D83: ='1.2.Výdaje dle položek'!H437 -> 390000
A84: 3699 | B84: Osadní výbor Valšovice | C84: 0 | D84: ='1.2.Výdaje dle položek'!H444 -> 200000
B85: OSADNÍ VÝBORY | C85: 0 | D85: =SUM(D77:D84) -> 2350000
A86: 2299 | B86: Ostatní záležitosti v dopravě - pokuty | C86: ='1.1.Příjmy dle položek'!H47 -> 14000000 | D86: 0
A87: 5311 | B87: Bezpečnost a veřejný pořádek - přestupky | C87: ='1.1.Příjmy dle položek'!H48 -> 130000 | D87: 0
A88: 6112 | B88: Zastupitelstva obcí | C88: 0 | D88: ='1.2.Výdaje dle položek'!H457 -> 6141000
A89: 6171 | B89: Činnost místní správy - osobní výdaje | C89: 0 | D89: ='1.2.Výdaje dle položek'!H467 -> 80143000
A90: 6171 | B90: GIS | C90: 0 | D90: ='1.2.Výdaje dle položek'!H469 -> 1050000
A91: 6171 | B91: Chod úřadu Odbor správy majetku | C91: 0 | D91: ='1.2.Výdaje dle položek'!H487+'1.2.Výdaje dle položek'!H492+'1.2.Výdaje dle položek'!H497+'1.2.Výdaje dle položek'!H499 -> 10984000
A92: 6171 | B92: Chod úřadu Odbor vnitřních věcí | C92: 0 | D92: ='1.2.Výdaje dle položek'!H513 -> 4925000
A93: 6171 | B93: Chod úřadu IT oddělení | C93: 0 | D93: ='1.2.Výdaje dle položek'!H523 -> 4067000
A94: 6171 | B94: Sociální fond | C94: ='1.1.Příjmy dle položek'!H49 -> 70000 | D94: ='1.2.Výdaje dle položek'!H532 -> 2725000
A95: 6330 | B95: Převody vlastním fondům v rozpočtech | C95: ='1.1.Příjmy dle položek'!H50+'1.1.Příjmy dle položek'!H51 -> 2655000 | D95: ='1.2.Výdaje dle položek'!H535 -> 2655000
A96: 6171 | B96: Oddělení právní | C96: 0 | D96: ='1.2.Výdaje dle položek'!H538 -> 120000
B97: Příjmy z odvodů a poplatků, výkon státní správy | C97: ='1.1.Příjmy dle položek'!H52+'1.1.Příjmy dle položek'!H53+'1.1.Příjmy dle položek'!H54+'1.1.Příjmy dle položek'!H55 -> 38200000 | D97: 0
B98: CHOD ÚŘADU A ORGÁNŮ MĚSTA | C98: =SUM(C86:C97) -> 55055000 | D98: =SUM(D86:D97) -> 112810000
A99: 6310 | B99: Služby peněžních ústavů | D99: ='1.2.Výdaje dle položek'!H542 -> 400000
A100: 6320 | B100: Pojištění | D100: ='1.2.Výdaje dle položek'!H544 -> 2000000
A101: 6399 | B101: Ostatní finanční operace | D101: ='1.2.Výdaje dle položek'!H548 -> 4870000
...

Sheet 2.Investice
A1: 2. INVESTICE A JEDNORÁZOVÉ AKCE (v Kč)
A3: Text | B3: PŘÍJMY | C3: VÝDAJE | D3: předch. usnesení
A4: Sportoviště u ZŠ a MŠ Struhlovsko | B4: 0 | C4: 5500000 | D4: 495/2021-ZM 23 z 29. 4. 2021
A5: Rekonstrukce kotelny ZŠ a MŠ Struhlovsko | B5: 0 | C5: 5000000 | D5: 569/2021-ZM 25 z 16. 9. 2021
A6: ŠKOLSTVÍ | B6: 0 | C6: =SUM(C4:C5) -> 10500000
A7: Rekonstrukce izolace zámeckých sklepů | B7: 0 | C7: 3500000 | D7: 563/2021-ZM 25 z 16. 9. 2021
A8: NAKLÁDÁNÍ S NEMOVITOSTMI | B8: 0 | C8: =SUM(C7) -> 3500000
A9: Cyklo Slavíč II.etapa | B9: 0 | C9: 1000000 | D9: smlouvy o sml. budoucích
A10: KOMUNIKACE | B10: 0 | C10: =SUM(C9) -> 1000000
A11: Strategický plán systému rozvoje zeleně | B11: 0 | C11: 1500000 | D11: 567/2021-ZM 25 z 16. 9. 2021
A12: KOMUNÁLNÍ SLUŽBY A ÚZEMNÍ ROZVOJ | B12: 0 | C12: =SUM(C11) -> 1500000
A13: PPO Bečva - čerpadla | B13: 0 | C13: 3000000 | D13: 564/2021-ZM 25 z 16. 9. 2021
A14: ŽIVOTNÍ PROSTŘEDÍ | B14: 0 | C14: =SUM(C13) -> 3000000
A16: CELKEM | B16: 0 | C16: =SUM(C14,C12,C10,C8,C6) -> 19500000
A59: .

Sheet 3.Střednědobý výhled
A1: 3. STŘEDNĚDOBÝ VÝHLED ROZPOČTU na období 2023 - 2024 (v Kč)
D3: 2023 | F3: 2024
A4: ODD§ | B4: TEXT | C4: PŘÍJMY | D4: VÝDAJE | E4: PŘÍJMY | F4: VÝDAJE
A5: 2143 | B5: Cestovní ruch | C5: 0 | D5: 525000 | E5: 0 | F5: 525000
A6: 6223 | B6: Mezinárodní spolupráce | C6: 0 | D6: 435000 | E6: 0 | F6: 435000
B7: CESTOVNÍ RUCH A ZAHR. SPOLUPRÁCE | C7: 0 | D7: =SUM(D5:D6) -> 960000 | E7: 0 | F7: =SUM(F5:F6) -> 960000
A8: 3111 | B8: Mateřské školy | C8: 14000 | D8: 4400000 | E8: 14000 | F8: 4500000
A9: 3113 | B9: Základní školy | C9: 14000 | D9: 19500000 | E9: 14000 | F9: 19700000
A10: 3141 | B10: ŠJ 1. máje | C10: 0 | D10: 1650000 | E10: 0 | F10: 1700000
A11: 3231 | B11: Základní umělecké školy | C11: 169000 | D11: 150000 | E11: 169000 | F11: 150000
A12: 3299 | B12: Granty vzdělávání | C12: 0 | D12: 150000 | E12: 0 | F12: 150000
A13: 3421 | B13: Dům dětí a mládeže | C13: 18000 | D13: 1200000 | E13: 18000 | F13: 1230000
B14: ŠKOLSTVÍ | C14: =SUM(C8:C13) -> 215000 | D14: =SUM(D8:D13) -> 27050000 | E14: =SUM(E8:E13) -> 215000 | F14: =SUM(F8:F13) -> 27430000
A15: 3311 | B15: Divadelní činnost | C15: 0 | D15: 600000 | E15: 0 | F15: 600000
A16: 3319 | B16: Kronika | C16: 0 | D16: 80000 | E16: 0 | F16: 80000
A17: 3322 | B17: Zachování a obnova kulturních památek | C17: 0 | D17: 880000 | E17: 0 | F17: 880000
A18: 3326 | B18: Kulturní památky místní | C18: 0 | D18: 200000 | E18: 0 | F18: 200000
A19: 3392 | B19: Městská kulturní zařízení | C19: 0 | D19: 15200000 | E19: 0 | F19: 15600000
A20: 3392 | B20: Příspěvky a granty kultura | C20: 0 | D20: 1105000 | E20: 0 | F20: 1105000
B21: KULTURA | C21: =SUM(C16:C20) -> 0 | D21: =SUM(D15:D20) -> 18065000 | E21: =SUM(E16:E20) -> 0 | F21: =SUM(F15:F20) -> 18465000
A22: 3341 | B22: Televizní vysílání | C22: 0 | D22: 1080000 | E22: 0 | F22: 1110000
A23: 3349 | B23: Ostatní záležitosti sdělovacích prostředků | C23: 0 | D23: 410000 | E23: 0 | F23: 410000
A24: 3392 | B24: Zájmová činnost v kultuře | C24: 0 | D24: 250000 | E24: 0 | F24: 250000
A25: 3399 | B25: Občanské záležitosti | C25: 0 | D25: 500000 | E25: 0 | F25: 500000
B26: PREZENTACE MĚSTA | C26: 0 | D26: =SUM(D22:D25) -> 2240000 | E26: 0 | F26: =SUM(F22:F25) -> 2270000
A27: 3412 | B27: Sportovní zařízení | C27: 0 | D27: 760000 | E27: 0 | F27: 760000
A28: 3419 | B28: Sportovec roku | C28: 0 | D28: 370000 | E28: 0 | F28: 370000
A29: 3419 | B29: Granty a příspěvky tělovýchova | C29: 0 | D29: 8350000 | E29: 0 | F29: 8350000
A30: 3419 | B30: Dotace mimo grantové řízení | C30: 0 | D30: 2520000 | E30: 0 | F30: 2520000
A31: 3429 | B31: Bazén | C31: 0 | D31: 4015000 | E31: 0 | F31: 4015000
B32: SPORT | C32: 0 | D32: =SUM(D27:D31) -> 16015000 | E32: 0 | F32: =SUM(F27:F31) -> 16015000
A33: 4339 | B33: Výkon pěstounské péče | C33: 0 | D33: 300000 | E33: 0 | F33: 300000
A34: 4341 | B34: Sociální pomoc osobám v hmotné nouzi | C34: 0 | D34: 300000 | E34: 0 | F34: 300000
A35: 4357 | B35: Domov seniorů | C35: 0 | D35: 9000000 | E35: 0 | F35: 9000000
A36: 4359 | B36: Klub seniorů | C36: 0 | D36: 580000 | E36: 0 | F36: 580000
A37: 4374 | B37: Azylové domy | C37: 0 | D37: 300000 | E37: 0 | F37: 300000
A38: 4379 | B38: Granty a příspěvky v oblasti sociální | C38: 0 | D38: 600000 | E38: 0 | F38: 600000
A39: 4399 | B39: Ostatní záležitosti soc.věcí | C39: 0 | D39: 180000 | E39: 0 | F39: 180000
A40: 6171 | B40: OSPOD, sociální práce | C40: 6500000 | D40: 560000 | E40: 6500000 | F40: 560000
B41: SOCIÁLNÍ ZÁLEŽITOSTI | C41: =SUM(C33:C40) -> 6500000 | D41: =SUM(D33:D40) -> 11820000 | E41: =SUM(E33:E40) -> 6500000 | F41: =SUM(F33:F40) -> 11820000
A42: 3612 | B42: Celkem bytové hospodářství | C42: 5340000 | D42: 6353000 | E42: 5340000 | F42: 6353000
A43: 3613 | B43: Nebytové hospodářství | C43: 4075000 | D43: 4707000 | E43: 4075000 | F43: 4707000
A44: 3639 | B44: Pozemky | C44: 1700000 | D44: 950000 | E44: 1700000 | F44: 950000
B45: NAKLÁDÁNÍ S NEMOVITOSTMI | C45: =SUM(C42:C44) -> 11115000 | D45: =SUM(D42:D44) -> 12010000 | E45: =SUM(E42:E44) -> 11115000 | F45: =SUM(F42:F44) -> 12010000
A46: 2212 | B46: Silnice | C46: 0 | D46: 12800000 | E46: 0 | F46: 13000000
A47: 2219 | B47: Parkovací systém | C47: 2700000 | D47: 1600000 | E47: 2700000 | F47: 1600000
A48: 2219 | B48: Celkem chodníky | C48: 0 | D48: 7900000 | E48: 0 | F48: 8000000
B49: KOMUNIKACE | C49: =SUM(C46:C48) -> 2700000 | D49: =SUM(D46:D48) -> 22300000 | E49: =SUM(E46:E48) -> 2700000 | F49: =SUM(F46:F48) -> 22600000
A50: 2223 | B50: Bezpečnost silničního provozu | C50: 0 | D50: 95000 | E50: 0 | F50: 95000
A51: 2292 | B51: Provoz veřejné silniční dopravy | C51: 0 | D51: 17505000 | E51: 0 | F51: 18005000
B52: DOPRAVA | C52: 0 | D52: =SUM(D50:D51) -> 17600000 | E52: 0 | F52: =SUM(F50:F51) -> 18100000
A53: 2141 | B53: Tržnice, ochrana spotřebitelů | C53: 80000 | D53: 140000 | E53: 80000 | F53: 140000
A54: 2169 | B54: Stavební úřad | C54: 0 | D54: 200000 | E54: 0 | F54: 200000
A55: 3631 | B55: Veřejné osvětlení | C55: 0 | D55: 9100000 | E55: 0 | F55: 9100000
A56: 3632 | B56: Pohřebnictví | C56: 800000 | D56: 3300000 | E56: 800000 | F56: 3400000
A57: 3635 | B57: Územní plánování | C57: 0 | D57: 470000 | E57: 0 | F57: 470000
A58: 3636 | B58: Příprava akcí, poradenství ORM | C58: 0 | D58: 825000 | E58: 0 | F58: 825000
A59: 3636 | B59: Příprava projektů, dotací OPRŘM | C59: 0 | D59: 665000 | E59: 0 | F59: 665000
A60: 3639 | B60: Příprava investic OI | C60: 0 | D60: 350000 | E60: 0 | F60: 350000
A61: 3699 | B61: Mobiliář | C61: 0 | D61: 2200000 | E61: 0 | F61: 2200000
A62: 3745 | B62: Veřejná zeleň | C62: 0 | D62: 12500000 | E62: 0 | F62: 12700000
B63: KOMUNÁLNÍ SLUŽBY A ÚZEMNÍ ROZVOJ | C63: =SUM(C53:C62) -> 880000 | D63: =SUM(D53:D62) -> 29750000 | E63: =SUM(E53:E62) -> 880000 | F63: =SUM(F53:F62) -> 30050000
B64: Poplatek za komunální odpad | C64: 10400000 | D64: 0 | E64: 10400000 | F64: 0
A65: 3722 | B65: Sběr a svoz komunálních odpadů | C65: 0 | D65: 15000000 | E65: 0 | F65: 15200000
A66: 3723 | B66: Sběr a svoz ostatních odpadů | C66: 180000 | D66: 0 | E66: 180000 | F66: 0
A67: 3724 | B67: Využívání a zneškodňování nebezp.odpadů | C67: 0 | D67: 60000 | E67: 0 | F67: 60000
A68: 3725 | B68: Tříděný odpad | C68: 1900000 | D68: 13000000 | E68: 1900000 | F68: 13100000
A69: 3727 | B69: Prevence vzniku odpadů | C69: 0 | D69: 60000 | E69: 0 | F69: 60000
A70: 3729 | B70: Černé skládky | C70: 0 | D70: 120000 | E70: 0 | F70: 120000
B71: ODPADY | C71: =SUM(C64:C70) -> 12480000 | D71: =SUM(D64:D70) -> 28240000 | E71: =SUM(E64:E70) -> 12480000 | F71: =SUM(F64:F70) -> 28540000
A72: 5273 | B72: Ostatní správa v oblasti krizového řízení | D72: 20000 | F72: 20000
A73: 5512 | B73: Celkem požární ochrana | C73: 40000 | D73: 1380000 | E73: 40000 | F73: 1380000
B74: KRIZOVÉ ŘÍZENÍ A POŽÁRNÍ OCHRANA | C74: =SUM(C72:C73) -> 40000 | D74: =SUM(D72:D73) -> 1400000 | E74: =SUM(E72:E73) -> 40000 | F74: =SUM(F72:F73) -> 1400000
A75: 5311 | B75: Bezpečnost a veřejný pořádek | C75: 250000 | D75: 22300000 | E75: 250000 | F75: 22900000
B76: MĚSTSKÁ POLICIE | C76: =SUM(C75) -> 250000 | D76: =SUM(D75) -> 22300000 | E76: =SUM(E75) -> 250000 | F76: =SUM(F75) -> 22900000
B77: Osadní výbor Drahotuše | D77: 955000 | F77: 955000
B78: Osadní výbor Lhotka | D78: 145000 | F78: 145000
B79: Osadní výbor Rybáře | D79: 130000 | F79: 130000
B80: Osadní výbor Slavíč | D80: 260000 | F80: 260000
B81: Osadní výbor Středolesí | D81: 130000 | F81: 130000
B82: Osadní výbor Uhřínov | D82: 140000 | F82: 140000
B83: Osadní výbor Velká | D83: 390000 | F83: 390000
B84: Osadní výbor Valšovice | D84: 200000 | F84: 200000
B85: OSADNÍ VÝBORY | C85: 0 | D85: =SUM(D77:D84) -> 2350000 | E85: 0 | F85: =SUM(F77:F84) -> 2350000
A86: 2299 | B86: Ostatní záležitosti v dopravě - pokuty | C86: 14000000 | D86: 0 | E86: 14000000 | F86: 0
A87: 5311 | B87: Bezpečnost a veřejný pořádek - přestupky | C87: 130000 | D87: 0 | E87: 130000 | F87: 0
A88: 6112 | B88: Zastupitelstva obcí | C88: 0 | D88: 6300000 | E88: 0 | F88: 6500000
A89: 6171 | B89: Činnost místní správy - osobní výdaje | C89: 0 | D89: 82500000 | E89: 0 | F89: 85000000
A90: 6171 | B90: GIS | C90: 0 | D90: 1050000 | E90: 0 | F90: 1050000
A91: 6171 | B91: Chod úřadu OSM | C91: 0 | D91: 11000000 | E91: 0 | F91: 11200000
A92: 6171 | B92: Chod úřadu OV | C92: 0 | D92: 5000000 | E92: 0 | F92: 5100000
A93: 6171 | B93: IT oddělení | C93: 0 | D93: 3700000 | E93: 0 | F93: 3800000
A94: 6171 | B94: Sociální fond | C94: 70000 | D94: 2850000 | E94: 70000 | F94: 2950000
A95: 6330 | B95: Převody vlastním fondům v rozpočtech | C95: 2780000 | D95: 2780000 | E95: 2880000 | F95: 2880000
A96: 6171 | B96: Oddělení právní | C96: 0 | D96: 120000 | E96: 0 | F96: 120000
B97: Celkové příjmy z chodu úřadu | C97: 38300000 | D97: 0 | E97: 38300000 | F97: 0
B98: CHOD ÚŘADU A ORGÁNŮ MĚSTA | C98: =SUM(C86:C97) -> 55280000 | D98: =SUM(D88:D97) -> 115300000 | E98: =SUM(E86:E97) -> 55380000 | F98: =SUM(F88:F97) -> 118600000
A99: 6310 | B99: Bankovní poplatky | C99: 0 | D99: 400000 | E99: 0 | F99: 400000
A100: 6320 | B100: Pojištění celkem | C100: 0 | D100: 2500000 | E100: 0 | F100: 2500000
A101: 6399 | B101: Ostatní finanční operace | C101: 0 | D101: 2900000 | E101: 0 | F101: 3000000
...

Sheet 2.1.Návrhy dalších investic
B1: 2.1. NÁVRHY DALŠÍCH INVESTIC - ke schválení v únoru 2022 (v Kč)
A3: č.ř. | B3: TEXT | C3: PŘÍJMY | D3: VÝDAJE
A4: 1 | B4: Přístavba tělocvičny k ZŠ Drahotuše (usn. 494/2021 - ZM 23 z 29. 4. 21) | D4: 80000000
A5: 2 | B5: Výměna 2 ks kamer za zastaralé a nefukční (Tř. 1. máje a Zám. park) | D5: 100000
A6: 3 | B6: Automatický externí defibrilátor | D6: 55000
A7: 4 | B7: Regenerace panelového sídliště Struhlovsko III. etapa - PD | D7: 1000000
A8: 5 | B8: Chodník v ulici K nádraží - Drahotuše | C8: 2000000 | D8: 3500000
A9: 6 | B9: Úprava foyer staré radníce č.p. 71 - realizace | D9: 4800000
A10: 7 | B10: Rek. komunikace Pod Bílým kamenem - realizace - navýšení o 5 mil. | D10: 18000000
A11: 8 | B11: Vodovod v ulici Pivovarská - PD | D11: 150000
A12: 9 | B12: Rekonstrukce ulice Zborovská - DSP, RPD | D12: 950000
A13: 10 | B13: Úprava návsí Lhotka-realizace | D13: 1300000
A14: 11 | B14: Veřejné prostranství mezi zámkem a zámeckým hotelem | C14: 10000000 | D14: 18000000
A15: 12 | B15: Regenerace panelového sídliště Struhlovsko II. etapa, 2. část-realizace | C15: 6000000 | D15: 20000000
A16: 13 | B16: Oprava biologických rybníků ve Středolesí (druhý a třetí rybník) | D16: 1130000
A17: 14 | B17: Hospodaření s dešťovou vodou - ZŠ Šromotovo | C17: 8730000 | D17: 10500000
A18: 15 | B18: Rek. městského hřbitova v Hranicích I. a III.etapa | D18: 7000000
A19: 16 | B19: Parkoviště Bezručova jih | D19: 800000
A20: 17 | B20: Výtah stará radnice PD + realizace | D20: 1000000
A21: 18 | B21: Přechod pro chodce Hranická | C21: 500000 | D21: 1000000
A22: 19 | B22: Světelná křižovatka U Černého orla - dpoplatek rozpoču | D22: 3000000
A23: 20 | B23: veřejné prostranství; Hradební okruh Komenského; PD + STP | D23: 3500000
A24: 21 | B24: novostavba; Veřejné toalety v centru města; PD + realizace | D24: 2000000
A25: 22 | B25: Výkup pozemků Cyklostezkla Slavíč II.etapa po dokončení stavby | D25: 1000000
A26: 23 | B26: Pořízení PD pro opravu hřbitovní zdi v Drahotuších | D26: 160000
A27: 24 | B27: Informační systémy pro cestující ve veřejné dopravě v Hranicích PD | C27: 800000 | D27: 1000000
A28: 25 | B28: Oprava chodníku v ulici Purgešova a Galašova | C28: 450000 | D28: 900000
A29: 26 | B29: čp. 1 Pernštejnské nám., Hranice - výměna střešních oken | D29: 1000000
A30: 27 | B30: Pernštejnské nám. 1 - generální oprava zastřešení dvorany | C30: 15000000 | D30: 18000000
A31: 28 | B31: Nerudova 1848 - PD vč. realizace rekonstrukce střechy a hromosvodů | D31: 2000000
A32: 29 | B32: Tísňová zařízení pro seniory - zavední služby s org. Anděl na drátě | D32: 60000
A33: 30 | B33: Rekonstrukce fasády kaple ve Velké | C33: 50000 | D33: 800000
A34: 31 | B34: Klub seniorů Hranice- výmalba vnitřních prostor | D34: 80000
A35: 32 | B35: MŠ Pohádka - oprava elektrorozvodů ve třídách | D35: 1900000
A36: 33 | B36: MŠ Sluníčko - dětské hřiště | D36: 4019000
A37: 34 | B37: Školní jídelna 1. máje Hranice - PD - rekonstrukce kuchyně | D37: 500000
A38: 35 | B38: ŠJ 1. máje Hranice - Instalace tunelové myčky nádobí ve výdejně | D38: 1000000
A39: 36 | B39: Domov seniorů Hranice - Vzduchotechnika II. etapa | D39: 2266000
A40: 37 | B40: ZŠ a MŠ Šromotovo - rekonstrukce školní jídelny - PD | D40: 910000
A41: 38 | B41: Skatepark překážky oprava | D41: 790000
A42: 39 | B42: Oprava a restaurování mauzolea - nově přidělené dotace | C42: 325000 | D42: 410000
A43: 40 | B43: CVH Parkoviště | D43: 1500000
A44: 41 | B44: PD cyklostezky nové | D44: 1000000
A45: 42 | B45: Koncertní síň podium | D45: 1000000
A46: 43 | B46: Radar Slavíč | D46: 4000000
A47: 44 | B47: Sportoviště u ZŠ a MŠ Struhlovsko, Hranice | C47: 3800000
A48: 45 | B48: PD kanalizace Slavíč | D48: 1000000
A49: 46 | B49: PD pro SP i DSP bytová nástavba Nerudova/Struhlovsko | D49: 2000000
A50: 47 | B50: Radary na měření rychlosti v ul. Potštátská, Valšovice | D50: 200000
A51: 48 | B51: Participativní rozpočet | D51: 1000000
A52: 49 | B52: Dopravní automibil Valšovice | C52: 550000 | D52: 1350000
A53: 50 | B53: CELKEM | C53: =SUM(C4:C52) -> 48205000 | D53: =SUM(D4:D52) -> 227630000
A55: Rozdíl mezi požadavky na výdaje a možným příjmem dotací | D55: =D53-C53 -> 179425000
A56: Finanční krytí: dlouhodobý úvěr - na Tělocvičnu ZŠ Drahotuše | D56: 30000000
A57: výnosy z prodeje půdních nástaveb - na Tělocvičnu ZŠ Drahotuše | D57: 50000000
A58: výnosy z prodeje půdních nástaveb - na ostatní investiční akce | D58: 30000000
A59: zůstatek salda provozního rozpočtu na rok 2022 | D59: 7000000
A60: předpokládaný výsledek hospodaření roku 2021 | D60: =D55-D56-D57-D58-D59 -> 62425000
A61: Předpoklad úvěru na předfinancování dotací, které přijdou až v roce 2023 | D61: 48000000
A63: Upozornění: vedení vyškrtlo akci Demolice Vrchlického, existuje příslib financování ZM

Sheet 1.1.Příjmy dle položek
B1: 1.1. PŘÍJMY dle položek (v Kč)
A3: č.ř. | B3: ORJ | C3: ORG | D3: ODD§ | E3: POL | F3: TEXT | G3: SR 2021 | H3: návrh 2022 | J3: rozdíl | K3: komentář
G4: 0 | H4: 0 | J4: =H4-G4 -> 0
A5: 1 | B5: 1 | D5: CESTOVNÍ RUCH A ZAHRANIČNÍ SPOLUPRÁCE | G5: =SUM(G4) -> 0 | H5: =SUM(H4) -> 0 | J5: =H5-G5 -> 0
A6: 2 | B6: 2 | C6: 2000000000000 | D6: 3111 | E6: 2132 | F6: Mateřské školy | G6: 14000 | H6: 14000 | J6: =H6-G6 -> 0
A7: 3 | B7: 2 | C7: 2000000000000 | D7: 3113 | E7: 2132 | F7: Základní školy | G7: 14000 | H7: 14000 | J7: =H7-G7 -> 0
A8: 4 | B8: 2 | C8: 2000000000000 | D8: 3231 | E8: 2132 | F8: Základní umělecká škola | G8: 169000 | H8: 169000 | J8: =H8-G8 -> 0
A9: 5 | B9: 2 | C9: 2000000000000 | D9: 3421 | E9: 2132 | F9: Dům dětí a mládeže | G9: 18000 | H9: 18000 | J9: =H9-G9 -> 0
A10: 6 | B10: 2 | D10: ŠKOLSTVÍ | G10: =SUM(G6:G9) -> 215000 | H10: =SUM(H6:H9) -> 215000 | J10: =H10-G10 -> 0
A11: 7 | G11: 0 | H11: 0 | J11: =H11-G11 -> 0
A12: 8 | B12: 3 | D12: KULTURA | G12: =SUM(G11) -> 0 | H12: =SUM(H11) -> 0 | J12: =H12-G12 -> 0
A13: 9 | G13: 0 | H13: 0 | J13: =H13-G13 -> 0
A14: 10 | B14: 4 | D14: PREZENTACE MĚSTA | G14: 0 | H14: 0 | J14: =H14-G14 -> 0
A15: 11 | G15: 0 | H15: 0 | J15: =H15-G15 -> 0
A16: 12 | B16: 5 | D16: SPORT | G16: 0 | H16: 0 | J16: =H16-G16 -> 0
A17: 13 | B17: 6 | C17: 7000000000000 | D17: 6399 | E17: 2329 | F17: Ostatní příjmy - transfery v sociální oblasti | G17: 6500000 | H17: 6500000 | J17: =H17-G17 -> 0
A18: 14 | B18: 6 | D18: SOCIÁLNÍ ZÁLEŽITOSTI | G18: =SUM(G17) -> 6500000 | H18: =SUM(H17) -> 6500000 | J18: =H18-G18 -> 0
A19: 15 | B19: 7 | C19: 3000000000501 | D19: 3612 | E19: 2132 | F19: Přijmy z pronájmu | G19: 7585000 | H19: 5195000 | J19: =H19-G19 -> -2390000
A20: 16 | B20: 7 | C20: 3000000000501 | D20: 3612 | E20: 2329 | F20: Ostatní příjmy z vlastní činnosti | G20: 10000 | H20: 10000 | J20: =H20-G20 -> 0
A21: 17 | B21: 7 | C21: 3000000000502 | D21: 3612 | E21: 2132 | F21: Příjmy z pronájmu byty Jižní | G21: 135000 | H21: 135000 | J21: =H21-G21 -> 0
A22: 18 | B22: 7 | D22: 3612 | F22: Bytové hospodářství celkem | G22: =SUM(G19:G21) -> 7730000 | H22: =SUM(H19:H21) -> 5340000 | J22: =H22-G22 -> -2390000
A23: 19 | B23: 7 | C23: 3000000000501 | D23: 3613 | E23: 2132 | F23: Přijmy z pronájmu ost. nemovit. Ekoltes | G23: 2380000 | H23: 2330000 | J23: =H23-G23 -> -50000
A24: 20 | B24: 7 | C24: 3000000007057 | D24: 3613 | E24: 2132 | F24: Příjmy z pronájmu | G24: 1750000 | H24: 1750000 | J24: =H24-G24 -> 0
A25: 21 | B25: 7 | D25: 3613 | F25: Nebytové prostory celkem | G25: =SUM(G23:G24) -> 4130000 | H25: =SUM(H23:H24) -> 4080000 | J25: =H25-G25 -> -50000
A26: 22 | B26: 7 | C26: 3000000000000 | D26: 3639 | E26: 2131 | F26: Pozemky | G26: 1500000 | H26: 1700000 | J26: =H26-G26 -> 200000
A27: 23 | B27: 7 | D27: NAKLÁDÁNÍ S NEMOVITOSTMI | G27: =SUM(G22+G25+G26) -> 13360000 | H27: =SUM(H22+H25+H26) -> 11120000 | J27: =H27-G27 -> -2240000
A28: 24 | B28: 8 | C28: 3000000000000 | D28: 2219 | E28: 2111 | F28: Parkoviště – zpoplatněný parkovací systém | G28: 3100000 | H28: 2700000 | J28: =H28-G28 -> -400000
A29: 25 | B29: 8 | D29: KOMUNIKACE | G29: =G28 -> 3100000 | H29: =H28 -> 2700000 | J29: =H29-G29 -> -400000
A30: 26 | G30: 0 | H30: 0 | J30: =H30-G30 -> 0
A31: 27 | B31: 9 | D31: DOPRAVA | G31: 0 | H31: 0 | J31: =H31-G31 -> 0
A32: 28 | B32: 10 | C32: 7000000007013 | E32: 1343 | F32: Tržnice - místní poplatek | G32: 80000 | H32: 80000 | J32: =H32-G32 -> 0
A33: 29 | B33: 10 | C33: 3000000000000 | D33: 3632 | E33: 2139 | F33: Pohřebnictví | G33: 800000 | H33: 800000 | J33: =H33-G33 -> 0
A34: 30 | B34: 10 | D34: KOMUNÁLNÍ SLUŽBY A ÚZEMNÍ ROZVOJ | G34: =SUM(G32:G33) -> 880000 | H34: =SUM(H32:H33) -> 880000 | J34: =H34-G34 -> 0
A35: 31 | B35: 11 | C35: 7000000000000 | E35: 1340 | F35: Komunální odpad | G35: 9400000 | H35: 9400000 | J35: =H35-G35 -> 0
A36: 32 | B36: 11 | C36: 3000000000000 | D36: 3723 | E36: 2324 | F36: Zpětný odběr elektrozařízení | G36: 180000 | H36: 180000 | J36: =H36-G36 -> 0
A37: 33 | B37: 11 | C37: 3000000000000 | D37: 3725 | E37: 2324 | F37: Tříděný odpad | G37: 1900000 | H37: 1900000 | J37: =H37-G37 -> 0
A38: 34 | B38: 11 | D38: ODPADY | G38: =SUM(G35:G37) -> 11480000 | H38: =SUM(H35:H37) -> 11480000 | J38: =H38-G38 -> 0
A39: 35 | B39: 12 | C39: 5000000000000 | D39: 5512 | E39: 2111 | F39: Smlouva s obcí Teplice n. B. | G39: 40000 | H39: 40000 | J39: =H39-G39 -> 0
A40: 36 | B40: 12 | D40: KRIZOVÉ ŘÍZENÍ A POŽÁRNÍ OCHRANA | G40: =G39 -> 40000 | H40: =H39 -> 40000 | J40: =H40-G40 -> 0
A41: 37 | B41: 13 | C41: 4000000000000 | D41: 5311 | E41: 2212 | F41: Městská policie pokuty | G41: 300000 | H41: 250000 | J41: =H41-G41 -> -50000
A42: 38 | B42: 13 | D42: MĚSTSKÁ POLICIE | G42: =G41 -> 300000 | H42: =H41 -> 250000 | J42: =H42-G42 -> -50000
A43: 39 | G43: 0 | H43: 0 | J43: =H43-G43 -> 0
A44: 40 | B44: 14 | D44: OSADNÍ VÝBORY | G44: 0 | H44: 0 | J44: =H44-G44 -> 0
A45: 41 | B45: 15 | C45: 5000000000000 | D45: 2299 | E45: 2212 | F45: Pokuty doprava | G45: 800000 | H45: 800000 | J45: =H45-G45 -> 0
A46: 42 | B46: 15 | C46: 5000000007087 | D46: 2299 | E46: 2212 | F46: Pokuty radar | G46: 13200000 | H46: 13200000 | J46: =H46-G46 -> 0
A47: 43 | B47: 15 | D47: 2299 | F47: Celkem doprava pokuty | G47: =SUM(G45:G46) -> 14000000 | H47: =SUM(H45:H46) -> 14000000 | J47: =H47-G47 -> 0
A48: 44 | B48: 15 | C48: 5000000000000 | D48: 5311 | E48: 2212 | F48: Přestupky | G48: 170000 | H48: 130000 | J48: =H48-G48 -> -40000
A49: 45 | B49: 15 | C49: 5400000000000 | E49: 2460 | F49: Sociální fond - splátky půjček | G49: 70000 | H49: 70000 | J49: =H49-G49 -> 0
A50: 46 | B50: 15 | C50: 5400000000000 | D50: 6330 | E50: 4134 | F50: Sociální fond - příděl | G50: 2510000 | H50: 2560000 | J50: =H50-G50 -> 50000
A51: 47 | B51: 15 | C51: 5400000000000 | D51: 6330 | E51: 4134 | F51: Sociální fond - příděl rezerva | G51: 0 | H51: 95000 | J51: =H51-G51 -> 95000
A52: 48 | B52: 15 | C52: 7000000000000 | E52: 1353 | F52: Příjmy za zkoušky řidičské oprávnění | G52: 450000 | H52: 450000 | J52: =H52-G52 -> 0
A53: 49 | B53: 15 | C53: 7000000000000 | E53: 1361 | F53: Správní poplatky | G53: 6200000 | H53: 6200000 | J53: =H53-G53 -> 0
A54: 50 | B54: 15 | C54: 7000000000000 | E54: 4112 | F54: Příspěvek na výkon státní správy | G54: 31000000 | H54: 31400000 | J54: =H54-G54 -> 400000
A55: 51 | B55: 15 | C55: 7000000000000 | E55: 4121 | F55: Neinv. transfery od obcí | G55: 0 | H55: 150000 | J55: =H55-G55 -> 150000
A56: 52 | B56: 15 | D56: CHOD ÚŘADU A ORGÁNŮ MĚSTA | G56: =SUM(G47:G55) -> 54400000 | H56: =SUM(H47:H55) -> 55055000 | J56: =SUM(J45:J55) -> 655000
A57: 53 | J57: =H57-G57 -> 0
A58: 54 | B58: 16 | D58: FINANČNÍ OPERACE | G58: =SUM(G57:G57) -> 0 | H58: =SUM(H57:H57) -> 0 | J58: =H58-G58 -> 0
A59: 55 | B59: 17 | C59: 7000000000000 | E59: 1341 | F59: Pes - místní poplatek | G59: 345000 | H59: 345000 | J59: =H59-G59 -> 0
A60: 56 | B60: 17 | C60: 7000000007004 | E60: 1361 | F60: Lovecké lístky | G60: 10000 | H60: 10000 | J60: =H60-G60 -> 0
A61: 57 | B61: 17 | C61: 7000000007005 | E61: 1361 | F61: Rybářské lístky | G61: 70000 | H61: 70000 | J61: =H61-G61 -> 0
A62: 58 | B62: 17 | F62: Místní a správní poplatky | G62: =SUM(G59:G61) -> 425000 | H62: =SUM(H59:H61) -> 425000 | J62: =H62-G62 -> 0
A63: 59 | B63: 17 | C63: 8100000000000 | D63: 1036 | E63: 2131 | F63: Lesní hospod. - nájem lesů Ekoltes | G63: 45000 | H63: 45000 | J63: =H63-G63 -> 0
A64: 60 | B64: 17 | C64: 8100000007067 | D64: 2321 | E64: 2132 | F64: Nájem kanalizace Velká, Pod Hůrkou | G64: 150000 | H64: 150000 | J64: =H64-G64 -> 0
A65: 61 | B65: 17 | C65: 8100000007081 | D65: 2321 | E65: 2111 | F65: Stočné Valšovice a Středolesí | G65: 90000 | H65: 90000 | J65: =H65-G65 -> 0
A66: 62 | B66: 17 | D66: 2321 | F66: Kanalizace, odpadní vody | G66: =SUM(G64:G65) -> 240000 | H66: =SUM(H64:H65) -> 240000 | J66: =H66-G66 -> 0
A67: 63 | B67: 17 | D67: ŽIVOTNÍ PROSTŘEDÍ | G67: =G62+G63+G66 -> 710000 | H67: =H62+H63+H66 -> 710000 | J67: =H67-G67 -> 0
A68: 64 | B68: 18 | C68: 7000000000000 | E68: 1111 | F68: Daň z příjmů fyzických osob plátci | G68: 30000000 | H68: 47000000 | J68: =H68-G68 -> 17000000
A69: 65 | B69: 18 | C69: 7000000000000 | E69: 1112 | F69: Daň z příjmů fyzických osob poplat. | G69: 200000 | H69: 1200000 | J69: =H69-G69 -> 1000000
A70: 66 | B70: 18 | C70: 7000000000000 | E70: 1113 | F70: Daň z příjmů fyzických osob srážkou | G70: 5000000 | H70: 7000000 | J70: =H70-G70 -> 2000000
A71: 67 | B71: 18 | C71: 7000000000000 | E71: 1121 | F71: Daň z příjmů právnických osob | G71: 40000000 | H71: 53000000 | J71: =H71-G71 -> 13000000
A72: 68 | B72: 18 | C72: 7000000000000 | E72: 1211 | F72: Daň z přidané hodnoty | G72: 126000000 | H72: 143000000 | J72: =H72-G72 -> 17000000
A73: 69 | B73: 18 | C73: 7000000000000 | E73: 1511 | F73: Daň z nemovitých věcí | G73: 18800000 | H73: 18800000 | J73: =H73-G73 -> 0
A74: 70 | B74: 18 | F74: Daně celkem | G74: =SUM(G68:G73) -> 220000000 | H74: =SUM(H68:H73) -> 270000000 | J74: =H74-G74 -> 50000000
A75: 71 | B75: 18 | C75: 7000000000000 | E75: 1342 | F75: Poplatek z pobytu | G75: 50000 | H75: 200000 | J75: =H75-G75 -> 150000
A76: 72 | B76: 18 | C76: 7000000007014 | E76: 1343 | F76: Poplatek za užívání veř. prostranství | G76: 50000 | H76: 150000 | J76: =H76-G76 -> 100000
A77: 73 | B77: 18 | C77: 7000000000000 | E77: 1349 | F77: Zruš. poplatek z ubytovací kapacity | G77: 50000 | H77: 0 | J77: =H77-G77 -> -50000
A78: 74 | F78: Místní poplatky celkem | G78: =SUM(G75:G77) -> 150000 | H78: =SUM(H75:H77) -> 350000 | J78: =H78-G78 -> 200000
A79: 75 | B79: 18 | C79: 7000000000000 | E79: 1381 | F79: Daň z hazardních her | G79: 1265000 | H79: 1250000 | J79: =H79-G79 -> -15000
A80: 76 | B80: 18 | C80: 8100000000000 | E80: 1356 | F80: Příjmy úhrad za dobývaní nerostů | G80: 450000 | H80: 450000 | J80: =H80-G80 -> 0
A81: 77 | B81: 18 | C81: 7000000000000 | E81: 4121 | F81: Veřejnosprávní smlouvy (přestupky) | G81: 150000 | H81: 0 | J81: =H81-G81 -> -150000 | K81: převedeno na orj 15
A82: 78 | B82: 18 | D82: OSTATNÍ PŘÍJMY - FINANČNÍ ODBOR | G82: =SUM(G81+G80+G79+G78+G74) -> 222015000 | H82: =SUM(H81+H80+H79+H78+H74) -> 272050000 | J82: =H82-G82 -> 50035000
A83: 79
A84: 80 | B84: PROVOZNÍ PŘÍJMY CELKEM | G84: =SUM(G82+G67+G58+G56+G44+G42+G40+G38+G34+G31+G29+G27+G18+G16+G14+G12+G10+G5) -> 313000000 | H84: =SUM(H82+H67+H58+H56+H44+H42+H40+H38+H34+H31+H29+H27+H18+H16+H14+H12+H10+H5) -> 361000000 | J84: =H84-G84 -> 48000000

Sheet 1.2.Výdaje dle položek
B1: 1.2. VÝDAJE dle položek (v Kč)
A3: č.ř. | B3: ORJ | C3: ORG | D3: ODD§ | E3: POL | F3: text | G3: SR 2021 | H3: návrh 2022 | J3: rozdíl | K3: komentář
A4: 1 | B4: 1 | C4: 2000000000000 | D4: 2143 | E4: 5139 | F4: Materiál - tisk nových a dotisky letáků a brožur | G4: 150000 | H4: 150000 | J4: =H4-G4 -> 0
A5: 2 | B5: 1 | C5: 2000000000000 | D5: 2143 | E5: 5169 | F5: Služby - inzerce, služby při akcích | G5: 110000 | H5: 110000 | J5: =H5-G5 -> 0
A6: 3 | B6: 1 | C6: 2000000000000 | D6: 2143 | E6: 5171 | F6: Údržba orient.systému, nauč.trasy a inf.tabulí | G6: 100000 | H6: 100000 | J6: =H6-G6 -> 0
A7: 4 | B7: 1 | C7: 2000000000000 | D7: 2143 | E7: 5175 | F7: Občerstvení prac. skupina cestovního ruchu | G7: 5000 | H7: 5000 | J7: =H7-G7 -> 0
A8: 5 | B8: 1 | C8: 2000000000000 | D8: 2143 | E8: 5194 | F8: Upomín. předměty s logem nebo znakem města | G8: 160000 | H8: 160000 | J8: =H8-G8 -> 0
A9: 6 | B9: 1 | D9: 2143 | E9: Cestovní ruch | G9: =SUM(G4:G8) -> 525000 | H9: =SUM(H4:H8) -> 525000 | J9: =H9-G9 -> 0
A10: 7 | B10: 1 | C10: 2000000000000 | D10: 6223 | E10: 5139 | F10: Materiál - při akcích s partnerskými městy | G10: 4000 | H10: 4000 | J10: =H10-G10 -> 0
A11: 8 | B11: 1 | C11: 2000000000000 | D11: 6223 | E11: 5169 | F11: Služby - tvorba videí, přenosy | G11: 32000 | H11: 32000 | J11: =H11-G11 -> 0
A12: 9 | B12: 1 | C12: 2000000000000 | D12: 6223 | E12: 5175 | F12: Občerstvení hostů z partnerských měst | G12: 30000 | H12: 30000 | J12: =H12-G12 -> 0
A13: 10 | B13: 1 | C13: 2000000000000 | D13: 6223 | E13: 5194 | F13: Dary | G13: 19000 | H13: 19000 | J13: =H13-G13 -> 0
A14: 11 | B14: 1 | C14: 2000000003105 | D14: 6223 | E14: 5222 | F14: Dotace - Granty spolupráce partnerských m. | G14: 0 | H14: 350000 | J14: =H14-G14 -> 350000
A15: 12 | B15: 1 | D15: 6223 | E15: Mezinárodní spolupráce | G15: =SUM(G10:G14) -> 85000 | H15: =SUM(H10:H14) -> 435000 | J15: =H15-G15 -> 350000
A16: 13 | B16: 1 | D16: CESTOVNÍ RUCH A ZAHRANIČNÍ SPOLUPRÁCE | G16: =G9+G15 -> 610000 | H16: =H9+H15 -> 960000 | J16: =H16-G16 -> 350000
A17: 14 | B17: 2 | C17: 2000000000000 | D17: 3111 | E17: 5171 | F17: Opravy a udržování MŠ | G17: 130000 | H17: 301000 | J17: =H17-G17 -> 171000 | K17: Čištění fasád MŠ Pohádka 100 tis., MŠ Míček a Sluníčko 2x 50 tis.,naposl.čišt.v r.2018,dle dopor.fi do 3 let. Rezerva na havar.a poj.udál.100 tis. Kč.
A18: 15 | B18: 2 | C18: 2000000000304 | D18: 3111 | E18: 5331 | F18: Příspěvek na provoz MŠ Pohádka - Palackého | G18: 790000 | H18: 1215000 | J18: =H18-G18 -> 425000 | K18: Navýšení dle usnesením RM 1471/2021 – RM 55 z 19. 01. 2021 - schválení výhledů na roky 2022 a 23 o 3 % inflace
A19: 16 | B19: 2 | C19: 2000000000341 | D19: 3111 | E19: 5331 | F19: Příspěvek na provoz MŠ Míček - Galašova | G19: 735000 | H19: 1057000 | J19: =H19-G19 -> 322000 | K19: a navýšení energií dle vysoutěžených cen pro rok 2022.
A20: 17 | B20: 2 | C20: 2000000000363 | D20: 3111 | E20: 5331 | F20: Příspěvek na provoz MŠ Sluníčko - Plynárenská | G20: 735000 | H20: 1057000 | J20: =H20-G20 -> 322000
A21: 18 | B21: 2 | C21: 2000000000400 | D21: 3111 | E21: 5229 | F21: Dotace soukromé MŠ Prima | G21: 280000 | H21: 280000 | J21: =H21-G21 -> 0
A22: 19 | B22: 2 | C22: 2000000000401 | D22: 3111 | E22: 5229 | F22: Dotace soukr. MŠ Dětské centrum Struhlovsko | G22: 460000 | H22: 460000 | J22: =H22-G22 -> 0
A23: 20 | B23: 2 | D23: 3111 | E23: Mateřské školy | G23: =SUM(G17:G22) -> 3130000 | H23: =SUM(H17:H22) -> 4370000 | J23: =H23-G23 -> 1240000
A24: 21 | B24: 2 | C24: 2000000000000 | D24: 3113 | E24: 5171 | F24: Opravy a udržování ZŠ | G24: 195000 | H24: 250000 | J24: =H24-G24 -> 55000 | K24: Na havarjní opravy a pojistné události, případně projektovou přípravu na budovách základních škol.
A25: 22 | B25: 2 | C25: 2000000000311 | D25: 3113 | E25: 5331 | F25: Příspěvek na provoz ZŠ 1. máje | G25: 3436000 | H25: 4210000 | J25: =H25-G25 -> 774000 | K25: Navýšení dle usnesením RM 1471/2021 – RM 55 z 19. 01. 2021 - schválení výhledů na roky 2022 a 23 o 3 % inflace
A26: 23 | B26: 2 | C26: 2000000000312 | D26: 3113 | E26: 5331 | F26: Příspěvek na provoz ZŠ Šromotovo | G26: 4000000 | H26: 5090000 | J26: =H26-G26 -> 1090000 | K26: a navýšení energií dle vysoutěžených cen pro rok 2022.
A27: 24 | B27: 2 | C27: 2000000000313 | D27: 3113 | E27: 5331 | F27: Příspěvek na provoz ZŠ Struhlovsko | G27: 4577000 | H27: 5687000 | J27: =H27-G27 -> 1110000
A28: 25 | B28: 2 | C28: 2000000000314 | D28: 3113 | E28: 5331 | F28: Příspěvek na provoz ZŠ Drahotuše | G28: 2722000 | H28: 3764000 | J28: =H28-G28 -> 1042000 | K28: Ve škole v roce 2021 otevřeny nové polytechnické učebny, škola žádá navýšení příspěvku na provoz o 180 tis. Kč.
A29: 26 | B29: 2 | C29: 2000000000000 | D29: 3113 | E29: 5331 | F29: Příspěvek na pomůcky pro prvňáčky | G29: 200000 | H29: 200000 | J29: =H29-G29 -> 0
A30: 27 | B30: 2 | D30: 3113 | E30: Základní školy | G30: =SUM(G24:G29) -> 15130000 | H30: =SUM(H24:H29) -> 19201000 | J30: =H30-G30 -> 4071000
A31: 28 | B31: 2 | C31: 2000000000356 | D31: 3141 | E31: 5331 | F31: Příspěvek na provoz ŠJ 1. máje | G31: 1210000 | H31: 1646000 | J31: =H31-G31 -> 436000 | K31: Navýšení dle usn.RM 1471/2021 – RM 55 z 19.01.2021 schválení výhledů na r.2022 a 23 o 3 % inflace a navýš.energií dle vysoutěž.cen pro r.2022.
A32: 29 | B32: 2 | D32: 3141 | E32: ŠJ 1. máje | G32: =SUM(G31) -> 1210000 | H32: =SUM(H31) -> 1646000 | J32: =H32-G32 -> 436000
A33: 30 | B33: 2 | C33: 2000000000336 | D33: 3231 | E33: 5171 | F33: Opravy a udržování ZUŠ | G33: 0 | H33: 150000 | J33: =H33-G33 -> 150000 | K33: Zapracování každoroční částky na případné havarie a údržbu budovy z nájemného od OK.
A34: 31 | B34: 2 | D34: 3231 | E34: Základní umělecké školy | G34: =SUM(G33) -> 0 | H34: =SUM(H33) -> 150000 | J34: =H34-G34 -> 150000
A35: 32 | B35: 2 | C35: 2000000003103 | D35: 3299 | E35: 5222 | F35: Dotace - Granty vzdělávání | G35: 0 | H35: 150000 | J35: =H35-G35 -> 150000
A36: 33 | B36: 2 | D36: 3299 | E36: Granty vzdělávání | G36: =SUM(G35) -> 0 | H36: =SUM(H35) -> 150000 | J36: =H36-G36 -> 150000
A37: 34 | B37: 2 | C37: 2000000000337 | D37: 3421 | E37: 5331 | F37: Příspěvek na provoz Dům dětí a mládeže | G37: 950000 | H37: 1178000 | J37: =H37-G37 -> 228000 | K37: Navýšení dle usn.RM 1471/2021 – RM 55 z 19.01.2021 schválení výhledů na r.2022 a 23 o 3 % inflace a navýš.energií dle vysoutěž.cen pro r.2022.
A38: 35 | B38: 2 | D38: 3421 | E38: 5171 | F38: Opravy a udržování Dům dětí a mládeže | G38: 0 | H38: 100000 | J38: =H38-G38 -> 100000 | K38: Čištění a oprava fasády, naposl.čišt.v r.2018, dle dopor.fi do 3 let. Rezerva na případné havarie a pojistné události.
A39: 36 | B39: 2 | D39: 3421 | E39: Dům dětí a mládeže | G39: =SUM(G37:G37) -> 950000 | H39: =SUM(H37:H37) -> 1178000 | J39: =H39-G39 -> 228000
A40: 37 | B40: 2 | D40: ŠKOLSTVÍ | G40: =G23+G30+G32+G34+G36+G39 -> 20420000 | H40: =H23+H30+H32+H34+H36+H39 -> 26695000 | J40: =H40-G40 -> 6275000
A41: 38 | B41: 3 | C41: 2000000003400 | D41: 3311 | E41: 5212 | F41: Dotace na provoz divadla Stará střelnice. | G41: 500000 | H41: 600000 | J41: =H41-G41 -> 100000
A42: 39 | B42: 3 | D42: 3311 | E42: Divadelní činnost | G42: =SUM(G41:G41) -> 500000 | H42: =SUM(H41:H41) -> 600000 | J42: =H42-G42 -> 100000
A43: 40 | B43: 3 | C43: 2000000000000 | D43: 3319 | E43: 5021 | F43: Kronikář města - DPČ | G43: 50000 | H43: 60000 | J43: =H43-G43 -> 10000
A44: 41 | B44: 3 | C44: 2000000000000 | D44: 3319 | E44: 5136 | F44: Předplatné Hranický deník pro kronikáře | G44: 5000 | H44: 6000 | J44: =H44-G44 -> 1000
A45: 42 | B45: 3 | C45: 2000000000000 | D45: 3319 | E45: 5162 | F45: Služby telekomunikací - internet pro kronikáře | G45: 5000 | H45: 4000 | J45: =H45-G45 -> -1000
A46: 43 | B46: 3 | C46: 2000000000000 | D46: 3319 | E46: 5169 | F46: Služby - tisk a vazba kronik 2019,2020 | G46: 10000 | H46: 10000 | J46: =H46-G46 -> 0
A47: 44 | B47: 3 | D47: 3319 | E47: Kronika | G47: =SUM(G43:G46) -> 70000 | H47: =SUM(H43:H46) -> 80000 | J47: =H47-G47 -> 10000 | K47: Navýšní DPČ kronikáři města od roku 2021.
A48: 45 | B48: 3 | C48: 2000000000000 | D48: 3322 | E48: 5171 | F48: Opravy a udržování, příp. PD zapsaných památek. | G48: 150000 | H48: 150000 | J48: =H48-G48 -> 0 | K48: Obnova kříže v zahradě gen. Opaty, ořez stromů na ŽH
A49: 46 | B49: 3 | C49: 2000000000000 | D49: 3322 | E49: 5493 | F49: Podíl města na dotaci z programu regenerace | G49: 200000 | H49: 200000 | J49: =H49-G49 -> 0
A50: 47 | B50: 3 | C50: 2000000002043 | D50: 3322 | E50: 5171 | F50: Pravidelná údržba židovského hřbitova a tunelu | G50: 72000 | H50: 77000 | J50: =H50-G50 -> 5000
A51: 48 | B51: 3 | D51: 3322 | E51: 5222 | F51: Dotace - granty oprav a obnovy v oblasti pam. | G51: 0 | H51: 450000 | J51: =H51-G51 -> 450000
A52: 49 | B52: 3 | D52: 3322 | E52: Zachování a obnova kulturních památek | G52: =SUM(G48:G51) -> 422000 | H52: =SUM(H48:H51) -> 877000 | J52: =H52-G52 -> 455000
A53: 50 | B53: 3 | C53: 2000000000000 | D53: 3326 | E53: 5171 | F53: Opravy a udržování místních památek | G53: 200000 | H53: 200000 | J53: =H53-G53 -> 0 | K53: Obnova křížů Valšovice a Zahradní ulice Valšovice
A54: 51 | B54: 3 | D54: 3326 | E54: Zachování památek místního významu | G54: =SUM(G53) -> 200000 | H54: =SUM(H53) -> 200000 | J54: =H54-G54 -> 0
A55: 52 | B55: 3 | C55: 2000000000300 | D55: 3392 | E55: 5331 | F55: Příspěvek na provoz MKZ | G55: 13418000 | H55: 14820000 | J55: =H55-G55 -> 1402000 | K55: Navýšení dle usn.RM 1471/2021 – RM 55 z 19.01.2021 schválení výhledů na r.2022 a 23 o 3 % inflace a navýš.energií dle vysoutěž.cen pro r.2022.
A56: 53 | B56: 3 | D56: 3392 | E56: Městská kulturní zařízení | G56: =SUM(G55:G55) -> 13418000 | H56: =SUM(H55:H55) -> 14820000 | J56: =H56-G56 -> 1402000
A57: 54 | B57: 3 | C57: 2000000003204 | D57: 3392 | E57: 5222 | F57: Dotace - příspěvky na celoroční činnost v kultuře | G57: 350000 | H57: 400000 | J57: =H57-G57 -> 50000 | K57: Návrh nutno zapracovat do Zásad
A58: 55 | B58: 3 | D58: 3392 | E58: 5222 | F58: Dotace - granty kultury | G58: 0 | H58: 705000 | J58: =H58-G58 -> 705000
A59: 56 | B59: 3 | D59: 3392 | E59: Granty a příspěvky kultura | G59: =SUM(G57:G58) -> 350000 | H59: =SUM(H57:H58) -> 1105000 | J59: =H59-G59 -> 755000
A60: 57 | B60: 3 | D60: KULTURA | G60: =G42+G47+G52+G54+G56+G59 -> 14960000 | H60: =H42+H47+H52+H54+H56+H59 -> 17682000 | J60: =H60-G60 -> 2722000
A61: 58 | B61: 4 | C61: 2000000000000 | D61: 3341 | E61: 5169 | F61: Hranické televizní zpravodajství | G61: 990000 | H61: 1050000 | J61: =H61-G61 -> 60000 | K61: Navýšení na doložku inflace cca 6 %
A62: 59 | B62: 4 | D62: 3341 | E62: Televizní zpravodaj | G62: =SUM(G61) -> 990000 | H62: =SUM(H61) -> 1050000 | J62: =H62-G62 -> 60000
A63: 60 | B63: 4 | C63: 2000000000000 | D63: 3349 | E63: 5168 | F63: Facebook | G63: 130000 | H63: 370000 | J63: =H63-G63 -> 240000 | K63: Navýšení na komplexní správy facebookového profilu dle usnesení RM z roku 2021
A64: 61 | B64: 4 | C64: 2000000000000 | D64: 3349 | E64: 5169 | F64: Placená inzerce nebo sdělení tiskového mluvčího | G64: 15000 | H64: 15000 | J64: =H64-G64 -> 0
A65: 62 | B65: 4 | C65: 2000000000000 | D65: 3349 | E65: 5169 | F65: Monitoring tisku | G65: 25000 | H65: 25000 | J65: =H65-G65 -> 0
A66: 63 | B66: 4 | D66: 3349 | E66: Ostatní záležitosti sdělovacích prostředků | G66: =SUM(G63:G65) -> 170000 | H66: =SUM(H63:H65) -> 410000 | J66: =H66-G66 -> 240000
A67: 64 | B67: 4 | C67: 2000000000000 | D67: 3392 | E67: 5021 | F67: Vernisáže a výstavy, akcí OŠKT - DPP | G67: 20000 | H67: 30000 | J67: =H67-G67 -> 10000
A68: 65 | B68: 4 | C68: 2000000000000 | D68: 3392 | E68: 5139 | F68: Materiál - akce OŠKT | G68: 10000 | H68: 10000 | J68: =H68-G68 -> 0
A69: 66 | B69: 4 | C69: 2000000000000 | D69: 3392 | E69: 5169 | F69: Grafika, ozvučení, honoráře, grafika kalendáře | G69: 70000 | H69: 100000 | J69: =H69-G69 -> 30000
A70: 67 | B70: 4 | C70: 2000000000000 | D70: 3392 | E70: 5171 | F70: Údržba závěsn. systému v galerii severní křídlo | G70: 10000 | H70: 10000 | J70: =H70-G70 -> 0
A71: 68 | B71: 4 | C71: 2000000000000 | D71: 3392 | E71: 5175 | F71: Občerstvení - vernisáže výstav, akce OŠKT | G71: 35000 | H71: 40000 | J71: =H71-G71 -> 5000
A72: 69 | B72: 4 | C72: 2000000000000 | D72: 3392 | E72: 5194 | F72: Upomínkové předměty - kalendář | G72: 40000 | H72: 60000 | J72: =H72-G72 -> 20000
A73: 70 | B73: 4 | C73: 2000000000000 | D73: 3392 | E73: 5194 | F73: Dotisk knihy Město Hranice a jeho památky | G73: 170000 | H73: 0 | J73: =H73-G73 -> -170000
A74: 71 | B74: 4 | D74: 3392 | E74: Zájmová činnost v kultuře | G74: =SUM(G67:G73) -> 355000 | H74: =SUM(H67:H73) -> 250000 | J74: =H74-G74 -> -105000
A75: 72 | B75: 4 | C75: 2000000000000 | D75: 3399 | E75: 5021 | F75: Grafické zpracovní zápisů do zlaté knihy - DPP | G75: 20000 | H75: 20000 | J75: =H75-G75 -> 0
A76: 73 | B76: 4 | C76: 2000000000000 | D76: 3399 | E76: 5139 | F76: Materiál - pam. listy občánkům, seniorům, matur. | G76: 60000 | H76: 60000 | J76: =H76-G76 -> 0
A77: 74 | B77: 4 | C77: 2000000000000 | D77: 3399 | E77: 5169 | F77: Služby - honoráře, ozvučení při vítání obč.,maturity, zlaté svatby,atd. | G77: 70000 | H77: 70000 | J77: =H77-G77 -> 0
A78: 75 | B78: 4 | C78: 2000000000000 | D78: 3399 | E78: 5175 | F78: Občerstvení - akce obč. záležitostí, Cena města | G78: 20000 | H78: 20000 | J78: =H78-G78 -> 0
A79: 76 | B79: 4 | C79: 2000000000000 | D79: 3399 | E79: 5194 | F79: Dary - dárkové balíčky pro jubilanty, zlaté svatby | G79: 300000 | H79: 300000 | J79: =H79-G79 -> 0
A80: 77 | B80: 4 | C80: 2000000000000 | D80: 3399 | E80: 5494 | F80: Finanční ceny při obřadu Ceny města Hranic | G80: 30000 | H80: 30000 | J80: =H80-G80 -> 0
A81: 78 | B81: 4 | D81: 3399 | E81: Občanské záležitosti | G81: =SUM(G75:G80) -> 500000 | H81: =SUM(H75:H80) -> 500000 | J81: =H81-G81 -> 0
A82: 79 | B82: 4 | D82: PREZENTACE MĚSTA | G82: =SUM(G81+G74+G66+G62) -> 2015000 | H82: =SUM(H81+H74+H66+H62) -> 2210000 | J82: =H82-G82 -> 195000
A83: 80 | B83: 5 | C83: 2000000000000 | D83: 3412 | E83: 5021 | F83: Správce veřejněpřístupných hřišť - DPČ | G83: 100000 | H83: 150000 | J83: =H83-G83 -> 50000 | K83: Od 01.08.2021 správce hřiště na Struhlovsko, výše odměn správcůpm se cca 10 roků nenavyšovala, zvýšení min.mzdy.
A84: 81 | B84: 5 | C84: 2000000000000 | D84: 3412 | E84: 5169 | F84: Služby při údržbě veřejněpřístupných hřišť | G84: 10000 | H84: 30000 | J84: =H84-G84 -> 20000 | K84: Odborná technická kontrola hřišť je povinná pro případné úrazy. Počet sportovišť roste.
A85: 82 | B85: 5 | C85: 2000000000000 | D85: 3412 | E85: 5171 | F85: Opravy a údržování veřejněpřístupných hřišť | G85: 326000 | H85: 500000 | J85: =H85-G85 -> 174000 | K85: Počet sportovišť roste a stárnou. Nové oplocení jednoho cca 150 tis. Kč. Každoroční údržba umělých povrchů nutná.
A86: 83 | B86: 5 | C86: 2000000002010 | D86: 3412 | E86: 5171 | F86: Opravy a údržování veřejněpřístup. hřišť Ekoltes | G86: 69000 | H86: 73600 | J86: =H86-G86 -> 4600
A87: 84 | B87: 5 | D87: 3412 | E87: Sportovní zařízení v majetku města | G87: =SUM(G83:G86) -> 505000 | H87: =SUM(H83:H86) -> 753600 | J87: =H87-G87 -> 248600
A88: 85 | B88: 5 | C88: 2000000000032 | D88: 3419 | E88: 5021 | F88: Osobní výdaje při akci Sportovec roku | G88: 30000 | H88: 30000 | J88: =H88-G88 -> 0
A89: 86 | B89: 5 | C89: 2000000000032 | D89: 3419 | E89: 5136 | F89: Předplatné - prezentace sportovců v tisku | G89: 20000 | H89: 25000 | J89: =H89-G89 -> 5000 | K89: Cena se každoročně navyšuje.
A90: 87 | B90: 5 | C90: 2000000000032 | D90: 3419 | E90: 5169 | F90: Služby - přípr. dvorany, technika, ozvučení, honoráře | G90: 130000 | H90: 130000 | J90: =H90-G90 -> 0
A91: 88 | B91: 5 | C91: 2000000000032 | D91: 3419 | E91: 5175 | F91: Občerstvení pro sportovce a hosty | G91: 30000 | H91: 40000 | J91: =H91-G91 -> 10000
A92: 89 | B92: 5 | C92: 2000000000032 | D92: 3419 | E92: 5194 | F92: Upomínkové předměty nominovaným sportovcům | G92: 40000 | H92: 50000 | J92: =H92-G92 -> 10000
A93: 90 | B93: 5 | C93: 2000000000032 | D93: 3419 | E93: 5494 | F93: Finanční ceny nejlepším sportovcům | G93: 90000 | H93: 95000 | J93: =H93-G93 -> 5000
A94: 91 | B94: 5 | D94: 3419 | E94: Sportovec roku | G94: =SUM(G88:G93) -> 340000 | H94: =SUM(H88:H93) -> 370000 | J94: =H94-G94 -> 30000 | K94: Je předpoklad, že všechny služby půjdou nahoru.
A95: 92 | B95: 5 | D95: 3419 | E95: 5222 | F95: Dotace - granty tělovýchovy | G95: 0 | H95: 400000 | J95: =H95-G95 -> 400000
A96: 93 | B96: 5 | C96: 2000000003210 | D96: 3419 | E96: 5222 | F96: Dotace - příspěvky na celoroční činnost mládeže | G96: 4150000 | H96: 4650000 | J96: =H96-G96 -> 500000 | K96: Návrh nutno zapracovat do Zásad
A97: 94 | B97: 5 | C97: 2000000003211 | D97: 3419 | E97: 5222 | F97: Dotace - příspěvky na celoroční činnost dospělých | G97: 1640000 | H97: 2000000 | J97: =H97-G97 -> 360000 | K97: Návrh nutno zapracovat do Zásad
A98: 95 | B98: 5 | C98: 2000000003300 | D98: 3419 | E98: 5222 | F98: Dotace - rezerva na dotace mimo grant. řízení | G98: 0 | H98: 300000 | J98: =H98-G98 -> 300000
A99: 96 | B99: 5 | C99: 1000000003107 | D99: 3419 | E99: 6322 | F99: Dotace - granty investic a oprav | G99: 0 | H99: 1000000 | J99: =H99-G99 -> 1000000
A100: 97 | B100: 5 | D100: 3419 | E100: Dotace - granty a příspěvky tělovýchova | G100: =SUM(G95:G99) -> 5790000 | H100: =SUM(H95:H99) -> 8350000 | J100: =H100-G100 -> 2560000
A101: 98 | B101: 5 | C101: 2000000003400 | D101: 3419 | E101: 5213 | F101: Dotace Ekoltes a.s. na plavecký výcvik žáků ZŠ | G101: 100000 | H101: 100000 | J101: =H101-G101 -> 0
...

Sheet Příjmy odd.§ historie
A1: 1.3. PŘÍJMY dle odd.§ s historií (v tis. Kč)
A3: ORJ | B3: ORG | C3: ODD§ | D3: Text | E3: SR 2020 | F3: skut. 2020 | G3: SR 2021 | H3: UR 2021 | I3: skut 1-10 | J3: plán 1-12
E4: 0 | F4: 0 | G4: 0 | H4: 0 | I4: 0 | J4: 0
A5: 1 | C5: CESTOVNÍ RUCH A ZAHRANIČNÍ SPOLUPRÁCE | E5: 0 | F5: 0 | G5: =SUM(G4) -> 0 | H5: =SUM(H4) -> 0 | I5: =SUM(I4) -> 0 | J5: =SUM(J4) -> 0
A6: 2 | B6: 20 | C6: 3111 | D6: Mateřské školy | E6: 14 | F6: 16 | G6: 14 | H6: 14 | I6: 14 | J6: 14
A7: 2 | B7: 20 | C7: 3111 | D7: Dotace MŠ | E7: 0 | F7: 481 | G7: 0 | H7: 0 | I7: 0 | J7: 0
A8: 2 | B8: 20 | C8: 3113 | D8: Základní školy | E8: 14 | F8: 14 | G8: 14 | H8: 14 | I8: 11 | J8: 14
A9: 2 | B9: 70 | C9: 3113 | D9: Dotace ZŠ | E9: 0 | F9: 1754 | G9: 0 | H9: 2525 | I9: 3220 | J9: 3220
A10: 2 | C10: 3141 | D10: ŠJ 1. máje | E10: 0 | F10: 140 | G10: 0 | H10: 0 | I10: 0 | J10: 0
A11: 2 | B11: 20 | C11: 3231 | D11: Základní umělecké školy | E11: 169 | F11: 169 | G11: 169 | H11: 187 | I11: 169 | J11: 169
A12: 2 | B12: 20 | C12: 3421 | D12: Dům dětí a mládeže | E12: 18 | F12: 18 | G12: 18 | H12: 0 | I12: 18 | J12: 18
A13: 2 | C13: ŠKOLSTVÍ | E13: =SUM(E6:E12) -> 215 | F13: =SUM(F6:F12) -> 2592 | G13: =SUM(G6:G12) -> 215 | H13: =SUM(H6:H12) -> 2740 | I13: =SUM(I6:I12) -> 3432 | J13: =SUM(J6:J12) -> 3435
A14: 3 | B14: 70 | C14: 3392 | D14: Zachování a obnova kulturních památek | E14: 0 | F14: 50 | G14: 0 | H14: 53 | I14: 53 | J14: 53
A15: 3 | B15: 70 | D15: Program regenerace MPZ | E15: 0 | F15: 445 | G15: 0 | H15: 1165 | I15: 1165 | J15: 1165
A16: 3 | B16: 70 | D16: Dotace MKZ | E16: 0 | F16: 1222 | G16: 0 | H16: 775 | I16: 775 | J16: 775
A17: 3 | C17: KULTURA | E17: =SUM(E16) -> 0 | F17: =SUM(F14:F16) -> 1717 | G17: =SUM(G15:G16) -> 0 | H17: =SUM(H14:H16) -> 1993 | I17: =SUM(I14:I16) -> 1993 | J17: =SUM(J14:J16) -> 1993
A18: 4 | E18: 0 | F18: 0 | G18: 0 | H18: 0 | I18: 0 | J18: 0
A19: 4 | C19: PREZENTACE MĚSTA | E19: 0 | F19: 0 | G19: =G18 -> 0 | H19: =H18 -> 0 | I19: =I18 -> 0 | J19: =J18 -> 0
A20: 5 | B20: 20 | C20: 3419 | D20: Ostatní tělovýchovná činnost | E20: 0 | F20: 27 | G20: 0 | H20: 77 | I20: 140 | J20: 140
A21: 5 | C21: SPORT | E21: =SUM(E20) -> 0 | F21: =SUM(F20) -> 27 | G21: =G20 -> 0 | H21: =H20 -> 77 | I21: =I20 -> 140 | J21: =J20 -> 140
A22: 6 | B22: 70 | C22: 4357 | D22: Domov seniorů vratka dotace | E22: 0 | F22: 2500 | G22: 0 | H22: 510 | I22: 510 | J22: 510
A23: 6 | B23: 20 | D23: Domov seniorů - dotace ÚZ 13305,13351 | E23: 0 | F23: 37880 | G23: 0 | H23: 38289 | I23: 38289 | J23: 38289
B24: 20 | C24: 4359 | D24: Klub seniorů | E24: 0 | F24: 0 | G24: 0 | H24: 0 | I24: 13 | J24: 13
A25: 6 | B25: 70 | D25: Podpora terénní práce - dotace ÚZ 04428 | E25: 0 | F25: 300 | G25: 0 | H25: 210 | I25: 210 | J25: 210
A26: 6 | B26: 70 | D26: Výkon pěstounské péče - dotace ÚZ 13010 | E26: 0 | F26: 384 | G26: 0 | H26: 348 | I26: 348 | J26: 348
A27: 6 | B27: 70 | D27: Sociálně právní ochrana dětí - dotace ÚZ 13011 | E27: 6500 | F27: 6672 | G27: 0 | H27: 6662 | I27: 6662 | J27: 6662
A28: 6 | B28: 70 | D28: Sociální práce - dotace ÚZ 13015 | E28: 0 | F28: 801 | G28: 0 | H28: 962 | I28: 962 | J28: 962
A29: 6 | B29: 70 | D29: Sociální práce - dotace ÚZ 13018 | G29: 0 | H29: 84 | I29: 84 | J29: 84
A30: 6 | B30: 70 | D30: Předfinancování dotací | E30: 0 | F30: 0 | G30: 6500 | H30: 0 | I30: 0 | J30: 0
A31: 6 | C31: SOCIÁLNÍ ZÁLEŽITOSTI | E31: =SUM(E22:E30) -> 6500 | F31: =SUM(F22:F30) -> 48537 | G31: =SUM(G22:G30) -> 6500 | H31: =SUM(H22:H30) -> 47065 | I31: =SUM(I22:I30) -> 47078 | J31: =SUM(J22:J30) -> 47078
A32: 7 | B32: 30 | C32: 3612 | D32: Bytové hospodářství - Ekoltes | E32: 7910 | F32: 7783 | G32: 7595 | H32: 7595 | I32: 7014 | J32: 8000
A33: 7 | B33: 30 | C33: 3612 | D33: Bytové hospodářství - Moravská Brána | E33: 150 | F33: 135 | G33: 135 | H33: 135 | I33: 95 | J33: 135
A34: 7 | B34: 30 | C34: 3613 | D34: Nebytové hospodářství - Ekoltes | E34: 2300 | F34: 2395 | G34: 2380 | H34: 2380 | I34: 1844 | J34: 2200
A35: 7 | B35: 30 | C35: 3613 | D35: Nebytové hospodářství | E35: 1750 | F35: 2320 | G35: 1750 | H35: 1750 | I35: 1999 | J35: 2300
A36: 7 | B36: 30 | C36: 3639 | D36: Pozemky | E36: 1500 | F36: 2503 | G36: 1500 | H36: 1500 | I36: 2586 | J36: 2700
A37: 7 | C37: NAKLÁDÁNÍ S NEMOVITOSTMI | E37: =SUM(E32:E36) -> 13610 | F37: =SUM(F32:F36) -> 15136 | G37: =SUM(G32:G36) -> 13360 | H37: =SUM(H32:H36) -> 13360 | I37: =SUM(I32:I36) -> 13538 | J37: =SUM(J32:J36) -> 15335
A38: 8 | B38: 30 | C38: 2219 | D38: Parkovací systém | E38: 3450 | F38: 2350 | G38: 3100 | H38: 3100 | I38: 2046 | J38: 2500
A39: 8 | C39: KOMUNIKACE | E39: =SUM(E38) -> 3450 | F39: =SUM(F38) -> 2350 | G39: =G38 -> 3100 | H39: =H38 -> 3100 | I39: =I38 -> 2046 | J39: =J38 -> 2500
A40: 9 | B40: 30 | D40: Doprava | E40: 0 | F40: 0 | G40: 0 | H40: 0 | I40: 0 | J40: 0
A41: 9 | C41: DOPRAVA | E41: =SUM(E40) -> 0 | F41: =SUM(F40) -> 0 | G41: =G40 -> 0 | H41: =H40 -> 0 | I41: =I40 -> 0 | J41: =J40 -> 0
A42: 10 | B42: 70 | D42: Poplatek za tržní místo | E42: 100 | F42: 85 | G42: 80 | H42: 80 | I42: 76 | J42: 80
A43: 10 | B43: 30 | C43: 3632 | D43: Pohřebnictví | E43: 800 | F43: 1114 | G43: 800 | H43: 800 | I43: 1137 | J43: 1137
A44: 10 | B44: 11 | C44: 3635 | D44: Územní plánování | E44: 0 | F44: 150 | G44: 0 | H44: 0 | I44: 0 | J44: 0
A45: 10 | B45: 30 | C45: 3745 | D45: Péče o vzhled obcí a veřejnou zeleň | E45: 0 | F45: 20 | G45: 0 | H45: 0 | I45: 19 | J45: 19
A46: 10 | C46: KOMUNÁLNÍ SLUŽBY A ÚZEMNÍ ROZVOJ | E46: =SUM(E42:E45) -> 900 | F46: =SUM(F42:F45) -> 1369 | G46: =SUM(G42:G45) -> 880 | H46: =SUM(H42:H45) -> 880 | I46: =SUM(I42:I45) -> 1232 | J46: =SUM(J42:J45) -> 1236
A47: 11 | B47: 70 | D47: Poplatek za komunální odpad | E47: 9550 | F47: 9376 | G47: 9400 | H47: 9400 | I47: 9074 | J47: 9300
A48: 11 | B48: 30 | C48: 3723 | D48: Sběr a svoz ostatních odpadů | E48: 180 | F48: 183 | G48: 180 | H48: 180 | I48: 132 | J48: 180
A49: 11 | B49: 30 | C49: 3725 | D49: Využívání a zneškodňování komun.odpadů | E49: 1900 | F49: 2520 | G49: 1900 | H49: 1900 | I49: 1905 | J49: 1905
A50: 11 | C50: ODPADY | E50: =SUM(E47:E49) -> 11630 | F50: =SUM(F47:F49) -> 12079 | G50: =SUM(G47:G49) -> 11480 | H50: =SUM(H47:H49) -> 11480 | I50: =SUM(I47:I49) -> 11111 | J50: =SUM(J47:J49) -> 11385
A51: 12 | B51: 50 | C51: 5512 | D51: Požární ochrana - dobrovolná část | E51: 40 | F51: 117 | G51: 40 | H51: 40 | I51: 43 | J51: 43
A52: 12 | B52: 70 | D52: Dotace pro JSDH | E52: 0 | F52: 150 | G52: 0 | H52: 150 | I52: 154 | J52: 154
A53: 12 | C53: KRIZOVÉ ŘÍZENÍ A POŽÁRNÍ OCHRANA | E53: =SUM(E51:E52) -> 40 | F53: =SUM(F51:F52) -> 267 | G53: =SUM(G51:G52) -> 40 | H53: =SUM(H51:H52) -> 190 | I53: =SUM(I51:I52) -> 197 | J53: =SUM(J51:J52) -> 197
A54: 13 | B54: 40 | C54: 5311 | D54: Bezpečnost a veřejný pořádek | E54: 400 | F54: 181 | G54: 300 | H54: 300 | I54: 135 | J54: 160
A55: 13 | B55: 70 | D55: Dotace prevence kriminality | E55: 0 | F55: 994 | G55: 0 | H55: 492 | I55: 597 | J55: 597
A56: 13 | C56: MĚSTSKÁ POLICIE | E56: =SUM(E54:E55) -> 400 | F56: =SUM(F54:F55) -> 1175 | G56: =SUM(G54:G55) -> 300 | H56: =SUM(H54:H55) -> 792 | I56: =SUM(I54:I55) -> 732 | J56: =SUM(J54:J55) -> 757
A57: 14 | B57: 01 | C57: 3699 | D57: Osadní výbory | E57: 0 | F57: 0 | G57: 0 | H57: 8 | I57: 8 | J57: 8
A58: 14 | C58: OSADNÍ VÝBORY | E58: =SUM(E57) -> 0 | F58: 0 | G58: =G57 -> 0 | H58: =H57 -> 8 | I58: =I57 -> 8 | J58: =J57 -> 8
A59: 15 | B59: 60 | C59: 2169 | D59: Živnostenský úřad, Stavební úřad | E59: 0 | F59: 96 | G59: 0 | H59: 0 | I59: 30 | J59: 30
A60: 15 | B60: 50 | C60: 2299 | D60: Doprava - pokuty, náklady řízení | E60: 17000 | F60: 15110 | G60: 14000 | H60: 14000 | I60: 13188 | J60: 15000
A61: 15 | B61: 50 | C61: 5311 | D61: Bezpečnost a veřejný pořádek | E61: 170 | F61: 165 | G61: 170 | H61: 170 | I61: 161 | J61: 180
A62: 15 | B62: 50 | C62: 6171 | D62: Činnost místní správy | E62: 2 | F62: 38 | G62: 0 | H62: 34 | I62: 57 | J62: 57
A63: 15 | B63: 54 | C63: 6171 | D63: Sociální fond | E63: 100 | G63: 70 | H63: 70 | I63: 76 | J63: 85
A64: 15 | B64: 54 | C64: 6330 | D64: Převody vlastním fondům v rozpočtech | E64: 2530 | F64: 2581 | G64: 2510 | H64: 2510 | I64: 2510 | J64: 2510
A65: 15 | B65: 70 | D65: Dotace, správní a místní poplatky | E65: 36203 | F65: 38514 | G65: 37650 | H65: 39608 | I65: 33346 | J65: 39000
A66: 15 | C66: CHOD ÚŘADU A ORGÁNŮ MĚSTA | E66: =SUM(E59:E65) -> 56005 | F66: =SUM(F59:F65) -> 56504 | G66: =SUM(G59:G65) -> 54400 | H66: =SUM(H59:H65) -> 56392 | I66: =SUM(I59:I65) -> 49368 | J66: =SUM(J59:J65) -> 56862
A67: 16 | B67: 70 | C67: 6310 | D67: Příjmy z finančních operací | E67: 50 | F67: 1115 | G67: 0 | H67: 342 | I67: 568 | J67: 580
A68: 16 | B68: 70 | C68: 6320 | D68: Pojistná plnění | E68: 0 | F68: 3403 | G68: 0 | H68: 40 | I68: 198 | J68: 198
A69: 16 | B69: 70 | C69: 6402 | D69: Finanční vypořádání minulých let | E69: 0 | F69: 16 | G69: 0 | H69: 105 | I69: 193 | J69: 193
A70: 16 | C70: FINANČNÍ OPERACE | E70: =SUM(E67:E69) -> 50 | F70: =SUM(F67:F69) -> 4534 | G70: =SUM(G67:G69) -> 0 | H70: =SUM(H67:H69) -> 487 | I70: =SUM(I67:I69) -> 959 | J70: =SUM(J67:J69) -> 971
A71: 17 | B71: 70 | D71: Poplatky za psa, rybářské a lovecké lístky | E71: 430 | F71: 485 | G71: 425 | H71: 425 | I71: 464 | J71: 480
A72: 17 | B72: 81 | C72: 1036 | D72: Správa v lesním hospodářství | E72: 46 | F72: 46 | G72: 45 | H72: 45 | I72: 23 | J72: 45
A73: 17 | B73: 81 | C73: 2321 | D73: Odvádění a čištění odpadních vod | E73: 224 | F73: 333 | G73: 240 | H73: 240 | I73: 326 | J73: 326
A74: 17 | C74: ŽIVOTNÍ PROSTŘEDÍ | E74: =SUM(E71:E73) -> 700 | F74: =SUM(F71:F73) -> 864 | G74: =SUM(G71:G73) -> 710 | H74: =SUM(H71:H73) -> 710 | I74: =SUM(I71:I73) -> 813 | J74: =SUM(J71:J73) -> 851
A75: 18 | B75: 70 | D75: Daně | E75: 282200 | F75: 296562 | G75: 220000 | H75: 228100 | I75: 237867 | J75: 270000
A76: 18 | B76: 70 | D76: Poplatky, odovody | E76: 3150 | G76: 1865 | H76: 1865 | I76: 2800 | J76: 2800
A77: 18 | B77: 70 | D77: Transfery, dotace | E77: 150 | G77: 150 | H77: 3984 | I77: 4163 | J77: 4163
A78: 18 | C78: OSTATNÍ PŘÍJMY | E78: =SUM(E75:E77) -> 285500 | F78: =SUM(F75:F77) -> 296562 | G78: =SUM(G75:G77) -> 222015 | H78: =SUM(H75:H77) -> 233949 | I78: =SUM(I75:I77) -> 244830 | J78: =SUM(J75:J77) -> 276963
A80: PROVOZNÍ PŘÍJMY CELKEM | E80: =E5+E13+E17+E19+E21+E31+E37+E39+E46+E50+E53+E56+E58+E66+E70+E74+E78 -> 379000 | F80: =F5+F13+F17+F19+F21+F31+F37+F39+F46+F50+F53+F56+F58+F66+F70+F74+F78 -> 443713 | G80: =G5+G13+G17+G19+G21+G31+G37+G39+G46+G50+G53+G56+G58+G66+G70+G74+G78 -> 313000 | H80: =H5+H13+H17+H19+H21+H31+H37+H39+H46+H50+H53+H56+H58+H66+H70+H74+H78 -> 373223 | I80: =I5+I13+I17+I19+I21+I31+I37+I39+I46+I50+I53+I56+I58+I66+I70+I74+I78 -> 377477 | J80: =J5+J13+J17+J19+J21+J31+J37+J39+J46+J50+J53+J56+J58+J66+J70+J74+J78 -> 419711

Sheet Výdaje odd.§ historie
A1: 1.4. VÝDAJE s historií (v tis. Kč)
A3: ORJ | B3: ORG | C3: ODD§ | D3: Text | E3: SR 2020 | F3: skut. 2020 | G3: SR 2021 | H3: UR 2021 | I3: skut 1-10 | J3: plán 1-12
A4: 1 | B4: 20 | C4: 2143 | D4: Cestovní ruch | E4: 705 | F4: 282 | G4: 525 | H4: 455 | I4: 185 | J4: 200
A5: 1 | B5: 20 | C5: 6223 | D5: Mezinárodní spolupráce | E5: 235 | F5: 9 | G5: 85 | H5: 85 | I5: 8 | J5: 85
A6: 1 | B6: 20 | C6: 6223 | D6: Granty zahraniční spolupráce | E6: 350 | F6: 70 | G6: 0 | H6: 95 | I6: 45 | J6: 45
A7: 1 | C7: CESTOVNÍ RUCH A ZAHRANIČNÍ SPOLUPRÁCE | E7: =SUM(E4:E6) -> 1290 | F7: =SUM(F4:F6) -> 361 | G7: =SUM(G4:G6) -> 610 | H7: =SUM(H4:H6) -> 635 | I7: =SUM(I4:I6) -> 238 | J7: =SUM(J4:J6) -> 330
A8: 2 | B8: 20 | C8: 3111 | D8: Mateřské školy | E8: 3302 | F8: 3109 | G8: 3130 | H8: 3120 | I8: 2911 | J8: 3020
A9: 2 | B9: 20 | C9: 3111 | D9: Mateřské školy - dotace | E9: 0 | F9: 481 | G9: 0 | H9: 0 | I9: 0 | J9: 0
A10: 2 | B10: 20 | C10: 3113 | D10: Základní školy | E10: 16173 | F10: 15776 | G10: 15130 | H10: 15326 | I10: 15091 | J10: 15326
A11: 2 | B11: 20 | C11: 3113 | D11: Základní školy - dotace | E11: 0 | F11: 1625 | G11: 0 | H11: 2525 | I11: 2525 | J11: 2525
A12: 2 | B12: 20 | C12: 3141 | D12: ŠJ 1. máje | E12: 1287 | F12: 1341 | G12: 1210 | H12: 1210 | I12: 1210 | J12: 1210
A13: 2 | B13: 20 | C13: 3231 | D13: Základní umělecká škola | E13: 200 | F13: 0 | G13: 0 | H13: 0 | I13: 0 | J13: 0
A14: 2 | B14: 20 | C14: 3299 | D14: Granty vzdělávání | E14: 150 | F14: 57 | G14: 0 | H14: 30 | I14: 30 | J14: 30
A15: 2 | B15: 20 | C15: 3421 | D15: Dům dětí a mládeže | E15: 1068 | F15: 1020 | G15: 950 | H15: 950 | I15: 950 | J15: 950
A16: 2 | C16: ŠKOLSTVÍ | E16: =SUM(E8:E15) -> 22180 | F16: =SUM(F8:F15) -> 23409 | G16: =SUM(G8:G15) -> 20420 | H16: =SUM(H8:H15) -> 23161 | I16: =SUM(I8:I15) -> 22717 | J16: =SUM(J8:J15) -> 23061
A17: 3 | B17: 20 | C17: 3311 | D17: Divadelní činnost - dotace divadlo Stará střelnice | E17: 600 | F17: 600 | G17: 500 | H17: 500 | I17: 500 | J17: 500
A18: 3 | B18: 20 | C18: 3319 | D18: Kronika | E18: 70 | F18: 53 | G18: 70 | H18: 90 | I18: 70 | J18: 90
A19: 3 | B19: 20 | C19: 3322 | D19: Zachování a obnova kulturních památek | E19: 315 | F19: 331 | G19: 422 | H19: 656 | I19: 577 | J19: 650
A20: 3 | B20: 20 | C20: 3322 | D20: Program regenerace MPZ | E20: 0 | F20: 445 | G20: 0 | H20: 1165 | I20: 1165 | J20: 1165
A21: 3 | B21: 20 | C21: 3322 | D21: Granty památková péče | E21: 450 | F21: 350 | G21: 0 | H21: 0 | I21: 19 | J21: 19
A22: 3 | B22: 20 | C22: 3326 | D22: Zachování památek místního významu | E22: 162 | F22: 152 | G22: 200 | H22: 240 | I22: 112 | J22: 200
A23: 3 | B23: 20 | C23: 3392 | D23: Městská kulturní zařízení | E23: 13613 | F23: 11663 | G23: 13418 | H23: 13418 | I23: 13418 | J23: 13418
A24: 3 | B24: 20 | C24: 3392 | D24: Městská kulturní zařízení - dotace | E24: 0 | F24: 1222 | G24: 0 | H24: 775 | I24: 775 | J24: 775
A25: 3 | B25: 20 | C25: 3392 | D25: Příspěvky a granty kultura | E25: 1055 | F25: 705 | G25: 350 | H25: 520 | I25: 447 | J25: 447
A26: 3 | B26: 20 | C26: 3399 | D26: Dotace mimo grantové řízení | E26: 0 | F26: 0 | G26: 0 | H26: 162 | I26: 137 | J26: 137
A27: 3 | C27: KULTURA | E27: =SUM(E17:E26) -> 16265 | F27: =SUM(F17:F26) -> 15521 | G27: =SUM(G17:G26) -> 14960 | H27: =SUM(H17:H26) -> 17526 | I27: =SUM(I17:I26) -> 17220 | J27: =SUM(J17:J26) -> 17401
A28: 4 | B28: 20 | C28: 3341 | D28: Rozhlas a televize | E28: 960 | F28: 949 | G28: 990 | H28: 990 | I28: 894 | J28: 990
A29: 4 | B29: 20 | C29: 3349 | D29: Ostatní sdělovací prostředky | E29: 60 | F29: 195 | G29: 170 | H29: 230 | I29: 161 | J29: 200
A30: 4 | B30: 20 | C30: 3392 | D30: Zájmová činnost v kultuře | E30: 615 | F30: 105 | G30: 355 | H30: 465 | I30: 94 | J30: 350
A31: 4 | B31: 20 | C31: 3399 | D31: Občanské záležitosti | E31: 500 | F31: 262 | G31: 500 | H31: 638 | I31: 297 | J31: 550
A32: 4 | C32: PREZENTACE MĚSTA | E32: =SUM(E28:E31) -> 2135 | F32: =SUM(F28:F31) -> 1511 | G32: =SUM(G28:G31) -> 2015 | H32: =SUM(H28:H31) -> 2323 | I32: =SUM(I28:I31) -> 1446 | J32: =SUM(J28:J31) -> 2090
A33: 5 | B33: 20 | C33: 3412 | D33: Sportovní zařízení v majetku města | E33: 505 | F33: 337 | G33: 505 | H33: 517 | I33: 372 | J33: 480
A34: 5 | B34: 20 | C34: 3419 | D34: Tělovýchova | E34: 0 | F34: 0 | G34: 0 | H34: 50 | I34: 27 | J34: 27
A35: 5 | B35: 20 | C35: 3419 | D35: Sportovec roku | E35: 340 | F35: 280 | G35: 340 | H35: 340 | I35: 298 | J35: 298
A36: 5 | B36: 10 | C36: 3419 | D36: Granty na kulturní a sportovní zařízení | E36: 1000 | F36: 864 | G36: 0 | H36: 0 | I36: 0 | J36: 0
A37: 5 | B37: 20 | C37: 3419 | D37: Granty a příspěvky tělovýchova | E37: 6190 | F37: 5985 | G37: 5790 | H37: 5790 | I37: 5790 | J37: 5790
A38: 5 | B38: 20 | C38: 3419 | D38: Dotace smluvní opakované tělovýchova | E38: 2400 | F38: 2320 | G38: 2320 | H38: 2320 | I38: 2320 | J38: 2320
A39: 5 | B39: 20 | C39: 3419 | D39: Dotace mimo grant. řízení tělovýchova | E39: 500 | F39: 90 | G39: 0 | H39: 162 | I39: 115 | J39: 115
A40: 5 | B40: 81 | C40: 3429 | D40: Krytý a venkovní bazén | E40: 3480 | F40: 3480 | G40: 3480 | H40: 3480 | I40: 3480 | J40: 3480
A41: 5 | C41: SPORT | E41: =SUM(E33:E40) -> 14415 | F41: =SUM(F33:F40) -> 13356 | G41: =SUM(G33:G40) -> 12435 | H41: =SUM(H33:H40) -> 12659 | I41: =SUM(I33:I40) -> 12402 | J41: =SUM(J33:J40) -> 12510
A42: 6 | B42: 10 | C42: 35xx | D42: Dotace mimo grant. řízení | E42: 0 | F42: 5021 | G42: 0 | H42: 0 | I42: 0 | J42: 0
A43: 6 | B43: 25,30 | C43: 4339 | D43: Výkon pěstounské péče - dotace ÚZ 13010 | E43: 312 | F43: 256 | G43: 312 | H43: 3022 | I43: 44 | J43: 350
A44: 6 | B44: 25 | C44: 4341 | D44: Příspěvky smluvní opakované - Charita | E44: 300 | F44: 300 | G44: 300 | H44: 300 | I44: 300 | J44: 300
A45: 6 | B45: 20 | C45: 4357 | D45: Domov seniorů | E45: 5004 | F45: 5131 | G45: 5004 | H45: 9088 | I45: 4084 | J45: 4084
A46: 6 | B46: 20 | C46: 4357 | D46: Domov seniorů - dotace ÚZ 13305,13351 | E46: 0 | F46: 37880 | G46: 0 | H46: 38289 | I46: 38289 | J46: 38289
A47: 6 | B47: 20 | C47: 4359 | D47: Klub seniorů | E47: 478 | F47: 389 | G47: 478 | H47: 478 | I47: 267 | J47: 478
A48: 6 | B48: 25 | C48: 4374 | D48: Dotace smluvní opakované Elim | E48: 397 | F48: 292 | G48: 300 | H48: 300 | I48: 293 | J48: 293
A49: 6 | B49: 25 | C49: 4379 | D49: Granty a příspěvky v oblasti soc. zdrav. | E49: 600 | F49: 459 | G49: 330 | H49: 330 | I49: 330 | J49: 330
A50: 6 | B50: 25 | C50: 4399 | D50: Ostatní záležitosti soc.věcí a politiky zaměstnan. | E50: 180 | F50: 14 | G50: 180 | H50: 180 | I50: 22 | J50: 50
A51: 6 | B51: 91 | C51: 6171 | D51: Podpora terénní práce - dotace 04428 | E51: 0 | F51: 210 | G51: 0 | H51: 210 | I51: 0 | J51: 210
A52: 6 | B52: 91 | C52: 6171 | D52: Podpora terénní práce podíl na dotaci | E52: 0 | F52: 229 | G52: 0 | H52: 71 | I52: 0 | J52: 71
A53: 6 | B53: 25,30,50,91 | C53: 6171 | D53: Sociálně právní ochrana dětí - dotace ÚZ 13011 | E53: 485 | F53: 6353 | G53: 485 | H53: 706 | I53: 256 | J53: 706
A54: 6 | B54: 25,30,50,91 | C54: 6171 | D54: Sociální práce - dotace ÚZ 13015 | E54: 74 | F54: 1403 | G54: 76 | H54: 76 | I54: 55 | J54: 76
A55: 6 | B55: 70 | D55: Sociální práce - dotace ÚZ 13018 | E55: 0 | F55: 0 | G55: 0 | H55: 84 | J55: 84
A56: 6 | C56: SOCIÁLNÍ ZÁLEŽITOSTI | E56: =SUM(E42:E55) -> 7830 | F56: =SUM(F42:F55) -> 57937 | G56: =SUM(G42:G55) -> 7465 | H56: =SUM(H42:H55) -> 53134 | I56: =SUM(I42:I54) -> 43940 | J56: =SUM(J42:J54) -> 45237
A57: 7 | B57: 30 | C57: 3612 | D57: Bytové hospodářství - Ekoltes | E57: 7670 | F57: 4818 | G57: 7073 | H57: 5973 | I57: 3710 | J57: 5000
A58: 7 | B58: 30 | C58: 3612 | D58: Bytové hospodářství - Moravská Brána | E58: 90 | F58: 81 | G58: 90 | H58: 90 | I58: 62 | J58: 90
A59: 7 | B59: 30 | C59: 3612 | D59: Výdaje související s prodejem bytů | E59: 0 | F59: 0 | G59: 0 | H59: 430 | I59: 294 | J59: 430
A60: 7 | B60: 30 | C60: 3613 | D60: Nebytové hospodářství - Ekoltes | E60: 1200 | F60: 686 | G60: 1110 | H60: 1110 | I60: 699 | J60: 1000
A61: 7 | B61: 30 | C61: 3613 | D61: Nebytové hospodářství | E61: 2480 | F61: 2078 | G61: 2307 | H61: 2652 | I61: 1882 | J61: 2150
A62: 7 | B62: 30 | C62: 3639 | D62: Pozemky | E62: 950 | F62: 728 | G62: 950 | H62: 1134 | I62: 488 | J62: 1000
A63: 7 | C63: NAKLÁDÁNÍ S NEMOVITOSTMI | E63: =SUM(E57:E62) -> 12390 | F63: =SUM(F57:F62) -> 8391 | G63: =SUM(G57:G62) -> 11530 | H63: =SUM(H57:H62) -> 11389 | I63: =SUM(I57:I62) -> 7135 | J63: =SUM(J57:J62) -> 9670
A64: 8 | B64: 30 | C64: 2212 | D64: Silnice | E64: 749 | F64: 1257 | G64: 739 | H64: 1575 | I64: 590 | J64: 1300
A65: 8 | B65: 30 | C65: 2212 | D65: Silnice - Ekoltes | E65: 10956 | F65: 9283 | G65: 10454 | H65: 11254 | I65: 10109 | J65: 11254
A66: 8 | B66: 30 | C66: 2219 | D66: Chodníky, ostatní komunikace | E66: 380 | F66: 1063 | G66: 290 | H66: 867 | I66: 620 | J66: 867
A67: 8 | B67: 30 | C67: 2219 | D67: Chodníky, ostatní komunikace - Ekoltes | E67: 7222 | F67: 4966 | G67: 6729 | H67: 7759 | I67: 6848 | J67: 7759
A68: 8 | B68: 30 | C68: 2219 | D68: Parkovací systém | E68: 1328 | F68: 1423 | G68: 1423 | H68: 1393 | I68: 1071 | J68: 1393
A69: 8 | C69: KOMUNIKACE | E69: =SUM(E64:E68) -> 20635 | F69: =SUM(F64:F68) -> 17992 | G69: =SUM(G64:G68) -> 19635 | H69: =SUM(H64:H68) -> 22848 | I69: =SUM(I64:I68) -> 19238 | J69: =SUM(J64:J68) -> 22573
A70: 9 | B70: 30 | C70: 2223 | D70: Bezpečnost silničního provozu | E70: 95 | F70: 100 | G70: 95 | H70: 95 | I70: 94 | J70: 94
A71: 9 | B71: 30 | C71: 2292 | D71: Dopravní obslužnost veřejnými službami | E71: 16785 | F71: 15523 | G71: 16585 | H71: 16465 | I71: 15700 | J71: 16465
A72: 9 | C72: DOPRAVA | E72: =SUM(E70:E71) -> 16880 | F72: =SUM(F70:F71) -> 15623 | G72: =SUM(G70:G71) -> 16680 | H72: =SUM(H70:H71) -> 16560 | I72: =SUM(I70:I71) -> 15794 | J72: =SUM(J70:J71) -> 16559
A73: 10 | B73: 60 | C73: 2141 | D73: Živnostenský úřad | E73: 153 | F73: 79 | G73: 150 | H73: 150 | I73: 48 | J73: 60
A74: 10 | B74: 80 | C74: 2169 | D74: Stavební úřad | E74: 200 | F74: 19 | G74: 200 | H74: 200 | I74: 0 | J74: 0
A75: 10 | B75: 92 | C75: 3349 | D75: Ostatní sdělovací prostředky | E75: 52 | F75: 66 | G75: 101 | H75: 122 | I75: 74 | J75: 122
A76: 10 | B76: 30 | C76: 3631 | D76: Veřejné osvětlení | E76: 9071 | F76: 9154 | G76: 8921 | H76: 8953 | I76: 8950 | J76: 8950
A77: 10 | B77: 30 | C77: 3632 | D77: Pohřebnictví | E77: 3144 | F77: 2359 | G77: 2919 | H77: 3448 | I77: 2492 | J77: 3448
A78: 10 | B78: 11 | C78: 3635 | D78: Územní plánování, ÚAP | E78: 626 | F78: 576 | G78: 470 | H78: 1290 | I78: 146 | J78: 1200
A79: 10 | B79: 11 | C79: 3636 | D79: ORM příprava akcí, poradenství | E79: 825 | F79: 508 | G79: 825 | H79: 1330 | I79: 152 | J79: 1300
A80: 10 | B80: 92 | C80: 3636 | D80: OPRŘM - příprava dotačních projektů | E80: 758 | F80: 317 | G80: 555 | H80: 555 | I80: 148 | J80: 200
A81: 10 | B81: 10 | C81: 3639 | D81: OI - příprava investic | E81: 350 | F81: 85 | G81: 350 | H81: 410 | I81: 23 | J81: 50
A82: 10 | B82: 30 | C82: 3699 | D82: Mobiliář | E82: 1644 | F82: 1439 | G82: 1644 | H82: 2104 | I82: 1238 | J82: 2000
A83: 10 | B83: 30 | C83: 3745 | D83: Veřejná zeleň | E83: 12352 | F83: 11898 | G83: 11830 | H83: 12489 | I83: 9329 | J83: 12000
A84: 10 | C84: KOMUNÁLNÍ SLUŽBY A ÚZEMNÍ ROZVOJ | E84: =SUM(E73:E83) -> 29175 | F84: =SUM(F73:F83) -> 26500 | G84: =SUM(G73:G83) -> 27965 | H84: =SUM(H73:H83) -> 31051 | I84: =SUM(I73:I83) -> 22600 | J84: =SUM(J73:J83) -> 29330
A85: 11 | B85: 30 | C85: 3722 | D85: Sběr a svoz komunálních odpadů | E85: 13780 | F85: 12133 | G85: 13935 | H85: 13935 | I85: 11284 | J85: 13935
A86: 11 | B86: 30 | C86: 3724 | D86: Využívání a zneškodňování nebezpečných odpadů | E86: 58 | F86: 58 | G86: 58 | H86: 58 | I86: 41 | J86: 58
A87: 11 | B87: 30 | C87: 3725 | D87: Využívání a zneškodňování komun.odpadů | E87: 10195 | F87: 9868 | G87: 11655 | H87: 11655 | I87: 9153 | J87: 11655
A88: 11 | B88: 30 | C88: 3727 | D88: Prevence vzniku odpadů | E88: 332 | F88: 54 | G88: 332 | H88: 332 | I88: 54 | J88: 54
A89: 11 | B89: 30 | C89: 3729 | D89: Ostatní nakládání s odpady | E89: 110 | F89: 106 | G89: 110 | H89: 110 | I89: 88 | J89: 110
A90: 11 | C90: ODPADY | E90: =SUM(E85:E89) -> 24475 | F90: =SUM(F85:F89) -> 22219 | G90: =SUM(G85:G89) -> 26090 | H90: =SUM(H85:H89) -> 26090 | I90: =SUM(I85:I89) -> 20620 | J90: =SUM(J85:J89) -> 25812
A91: 12 | B91: 50 | C91: 5213 | D91: Krizové řízení | F91: 119 | G91: 0 | H91: 400 | I91: 0 | J91: 400
A92: 12 | B92: 50 | C92: 5273 | D92: Ostatní správa v oblasti krizového řízení | E92: 20 | F92: 10 | G92: 20 | H92: 20 | I92: 11 | J92: 20
A93: 12 | B93: 50 | C93: 5299 | D93: Krizové stavy | E93: 0 | F93: 0 | G93: 0 | H93: 1080 | I93: 1080 | J93: 1080
A94: 12 | B94: 50 | C94: 5512 | D94: Požární ochrana | E94: 1140 | F94: 958 | G94: 1140 | H94: 1073 | I94: 642 | J94: 1073
A95: 12 | B95: 50 | C95: 5512 | D95: Požární ochrana - dotace | E95: 0 | F95: 150 | G95: 0 | H95: 150 | I95: 109 | J95: 150
A96: 12 | B96: 50 | C96: 5512 | D96: Dotace mimo grant. řízení - požární ochrana | F96: 120 | G96: 0 | J96: 0
A97: 12 | B97: 30 | C97: 6171 | D97: Chod úřadu - krize | F97: 648 | G97: 0 | H97: 280 | I97: 210 | J97: 280
A98: 12 | C98: KRIZOVÉ ŘÍZENÍ A POŽÁRNÍ OCHRANA | E98: =SUM(E91:E97) -> 1160 | F98: =SUM(F91:F97) -> 2005 | G98: =SUM(G91:G97) -> 1160 | H98: =SUM(H91:H97) -> 3003 | I98: =SUM(I91:I97) -> 2052 | J98: =SUM(J91:J97) -> 3003
A99: 13 | B99: 40 | C99: 5311 | D99: Bezpečnost a veřejný pořádek | E99: 19585 | F99: 18283 | G99: 20335 | H99: 20419 | I99: 14181 | J99: 20400
A100: 13 | B100: 40 | C100: 5311 | D100: Bezpečnost a veřejný pořádek - dotace | E100: 0 | F100: 994 | G100: 0 | H100: 492 | I100: 11 | J100: 492
A101: 13 | C101: MĚSTSKÁ POLICIE | E101: =SUM(E99:E100) -> 19585 | F101: =SUM(F99:F100) -> 19277 | G101: =SUM(G99:G100) -> 20335 | H101: =SUM(H99:H100) -> 20911 | I101: =SUM(I99:I100) -> 14192 | J101: =SUM(J99:J100) -> 20892
...

Sheet Navýšení Ekoltes
C1: odd.§ | D1: rozpočet 2021 | E1: požadavek 2022
A2: 2001 | B2: RS - letní a zimní údržba komunikací | C2: 2212 | D2: 8017000 | E2: 8898000
A3: 2002 | B3: RS - blokové čištění komunikací | C3: 2212 | D3: 637000 | E3: 680000
A4: 2003 | B4: RS - jarní čištění komunikací | C4: 2212 | D4: 200000 | E4: 248000
A5: 2004 | B5: RS - letní a zimní údržba chodníků | C5: 2019 | D5: 5000000 | E5: 5443000
A6: 2005 | B6: RS - zimní údržba k cizím nemovitostem | C6: 2019 | D6: 590000 | E6: 680000
A7: 2006 | B7: RS - ruční očista chodníků, vývoz košů | C7: 2019 | D7: 1000000 | E7: 1334000
A8: 2007 | B8: RS - údržba zastávek | C8: 2019 | D8: 139000 | E8: 149000
A9: 2008 | B9: RS - opravy a údržba mobiliáře | C9: 3699 | D9: 260000 | E9: 360000
A10: 2008 | B10: RS - opravy a údržba mobiliáře | C10: 3699 | D10: 209000 | E10: 223000
A11: 2009 | B11: RS - opravy a údržba mobiliáře dětských hřišť | C11: 3699 | D11: 1040000 | E11: 1412000
A12: 2009 | B12: RS - opravy a údržba mobiliáře dětských hřišť | C12: 3699 | D12: 116000 | E12: 124000
A13: 2010 | B13: RS - in-line hřiště Žáčkova ul. | C13: 3412 | D13: 69000 | E13: 73600
... A45: 2046 | B45: RS - údržba Drahotušského náhonu | C45: 2341 | D45: 31000 | E45: 33000
A46: 20xx | B46: vozík a čerp. Kropáčova ul. | C46: 2212 | D46: 10000 | E46: 10000
A47: 20xx | B47: odstranění zeleně z hradeb | C47: 3745 | D47: 45000 | E47: 48000
B49: Celkem rámcová smlouva | D49: =SUM(D2:D47) -> 61564000 | E49: =SUM(E2:E48) -> 67106600
B51: veřejné osvětlení | C51: 3631 | D51: 8921000 | E51: 9019000
B52: provoz veř. pohřeb. | C52: 3632 | D52: 432000 | E52: 461000
B53: bazén | C53: 3429 | D53: 3480000 | E53: 4013400
B54: plavecký výcvik | C54: 3419 | D54: 100000 | E54: 100000
B55: Celkem dle jiných smluv | D55: =SUM(D51:D54) -> 12933000 | E55: =SUM(E51:E54) -> 13593400
B57: Celkem | D57: =D49+D55 -> 74497000 | E57: =E49+E55 -> 80700000

Sheet List1
