Workbook

Sheet 1.Provozní příjmy a výdaje
A1: 1. PROVOZNÍ PŘÍJMY A VÝDAJE dle středisek (v Kč)
A3: ODD§ | B3: TEXT | C3: PŘÍJMY | D3: VÝDAJE
A4: 2143 | B4: Cestovní ruch | C4: 0 | D4: ='1.2.Výdaje dle položek'!H9 -> 525000
A5: 6223 | B5: Mezinárodní spolupráce | C5: 0 | D5: ='1.2.Výdaje dle položek'!H15 -> 435000
B6: CESTOVNÍ RUCH A ZAHRANIČNÍ SPOLUPRÁCE | C6: 0 | D6: =SUM(D4:D5) -> 960000
A7: 3111 | B7: Mateřské školy | C7: ='1.1.Příjmy dle položek'!H6 -> 14000 | D7: ='1.2.Výdaje dle položek'!H23 -> 4370000
A8: 3113 | B8: Základní školy | C8: ='1.1.Příjmy dle položek'!H7 -> 14000 | D8: ='1.2.Výdaje dle položek'!H30 -> 19201000
A9: 3141 | B9: ŠJ 1. máje | C9: 0 | D9: ='1.2.Výdaje dle položek'!H32 -> 1646000
A10: 3231 | B10: Základní umělecké školy | C10: ='1.1.Příjmy dle položek'!H8 -> 169000 | D10: ='1.2.Výdaje dle položek'!H34 -> 150000
A11: 3299 | B11: Granty vzdělávání | C11: 0 | D11: ='1.2.Výdaje dle položek'!H36 -> 150000
A12: 3421 | B12: Dům dětí a mládeže | C12: ='1.1.Příjmy dle položek'!H9 -> 18000 | D12: ='1.2.Výdaje dle položek'!H39 -> 1178000
B13: ŠKOLSTVÍ | C13: =SUM(C7:C12) -> 215000 | D13: =SUM(D7:D12) -> 26695000
A14: 3311 | B14: Divadelní činnost | C14: 0 | D14: ='1.2.Výdaje dle položek'!H42 -> 600000
A15: 3319 | B15: Kronika | C15: 0 | D15: ='1.2.Výdaje dle položek'!H47 -> 80000
A16: 3322 | B16: Zachování a obnova kulturních památek | C16: 0 | D16: ='1.2.Výdaje dle položek'!H52 -> 877000
A17: 3326 | B17: Zachování památek místního významu | C17: 0 | D17: ='1.2.Výdaje dle položek'!H54 -> 200000
A18: 3392 | B18: Městská kulturní zařízení | C18: 0 | D18: ='1.2.Výdaje dle položek'!H56 -> 14820000
A19: 3392 | B19: Příspěvky a granty kultura | C19: 0 | D19: ='1.2.Výdaje dle položek'!H59 -> 1105000
B20: KULTURA | C20: =SUM(C15:C19) -> 0 | D20: =SUM(D14:D19) -> 17682000
A21: 3341 | B21: Televizní vysílání | C21: 0 | D21: ='1.2.Výdaje dle položek'!H62 -> 1050000
A22: 3349 | B22: Ostatní záležitosti sdělovacích prostředků | C22: 0 | D22: ='1.2.Výdaje dle položek'!H66 -> 410000
A23: 3392 | B23: Zájmová činnost v kultuře | C23: 0 | D23: ='1.2.Výdaje dle položek'!H74 -> 250000
A24: 3399 | B24: Občanské záležitosti | C24: 0 | D24: ='1.2.Výdaje dle položek'!H81 -> 500000
B25: PREZENTACE MĚSTA | C25: 0 | D25: =SUM(D21:D24) -> 2210000
A26: 3412 | B26: Sportovní zařízení | C26: 0 | D26: ='1.2.Výdaje dle položek'!H87 -> 753600
A27: 3419 | B27: Sportovec roku | C27: 0 | D27: ='1.2.Výdaje dle položek'!H94 -> 370000
A28: 3419 | B28: Granty a příspěvky tělovýchova | C28: 0 | D28: ='1.2.Výdaje dle položek'!H100 -> 8350000
A29: 3419 | B29: Dotace mimo grantové řízení | C29: 0 | D29: ='1.2.Výdaje dle položek'!H104 -> 2520000
A30: 3429 | B30: Bazén | C30: 0 | D30: ='1.2.Výdaje dle položek'!H106 -> 4013400
B31: SPORT | C31: 0 | D31: =SUM(D26:D30) -> 16007000
A32: 4339 | B32: Výkon pěstounské péče | C32: 0 | D32: ='1.2.Výdaje dle položek'!H116 -> 312000
A33: 4341 | B33: Sociální pomoc osobám v hmot. nouzi - Charita | C33: 0 | D33: ='1.2.Výdaje dle položek'!H118 -> 300000
A34: 4357 | B34: Domov seniorů | C34: 0 | D34: ='1.2.Výdaje dle položek'!H122 -> 9004000
A35: 4359 | B35: Klub seniorů | C35: 0 | D35: ='1.2.Výdaje dle položek'!H133 -> 580000
A36: 4374 | B36: Azylové domy - Elim | C36: 0 | D36: ='1.2.Výdaje dle položek'!H135 -> 300000
A37: 4379 | B37: Granty a příspěvky v oblasti sociální a zdravotní | C37: 0 | D37: ='1.2.Výdaje dle položek'!H138 -> 600000
A38: 4399 | B38: Ostatní záležitosti soc.věcí | C38: 0 | D38: ='1.2.Výdaje dle položek'!H146 -> 180000
A39: 6171 | B39: OSPOD, sociální práce | C39: 0 | D39: ='1.2.Výdaje dle položek'!H156+'1.2.Výdaje dle položek'!H162 -> 561000
A40: 6399 | B40: Ostatní příjmy - dotace | C40: ='1.1.Příjmy dle položek'!H18 -> 6500000 | D40: 0
B41: SOCIÁLNÍ ZÁLEŽITOSTI | C41: =SUM(C32:C40) -> 6500000 | D41: =SUM(D32:D39) -> 11837000
...

Sheet 2.Investice
A1: 2. INVESTICE A JEDNORÁZOVÉ AKCE (v Kč)
A3: Text | B3: PŘÍJMY | C3: VÝDAJE | D3: předch. usnesení
A4: Sportoviště u ZŠ a MŠ Struhlovsko | B4: 0 | C4: 5500000 | D4: 495/2021-ZM 23 z 29. 4. 2021
A5: Rekonstrukce kotelny ZŠ a MŠ Struhlovsko | B5: 0 | C5: 5000000 | D5: 569/2021-ZM 25 z 16. 9. 2021
A6: ŠKOLSTVÍ | B6: 0 | C6: =SUM(C4:C5) -> 10500000
A7: Rekonstrukce izolace zámeckých sklepů | B7: 0 | C7: 3500000 | D7: 563/2021-ZM 25 z 16. 9. 2021
A8: NAKLÁDÁNÍ S NEMOVITOSTMI | B8: 0 | C8: =SUM(C7) -> 3500000
A9: Cyklo Slavíč II.etapa | B9: 0 | C9: 1000000 | D9: smlouvy o sml. budoucích
A10: KOMUNIKACE | B10: 0 | C10: =SUM(C9) -> 1000000
A11: Strategický plán systému rozvoje zeleně | B11: 0 | C11: 1500000 | D11: 567/2021-ZM 25 z 16. 9. 2021
A12: KOMUNÁLNÍ SLUŽBY A ÚZEMNÍ ROZVOJ | B12: 0 | C12: =SUM(C11) -> 1500000
A13: PPO Bečva - čerpadla | B13: 0 | C13: 3000000 | D13: 564/2021-ZM 25 z 16. 9. 2021
A14: ŽIVOTNÍ PROSTŘEDÍ | B14: 0 | C14: =SUM(C13) -> 3000000
A16: CELKEM | B16: 0 | C16: =SUM(C14,C12,C10,C8,C6) -> 19500000
A59: .

Sheet 3.Střednědobý výhled
A1: 3. STŘEDNĚDOBÝ VÝHLED ROZPOČTU na období 2023 - 2024 (v Kč)
D3: 2023 | F3: 2024
A4: ODD§ | B4: TEXT | C4: PŘÍJMY | D4: VÝDAJE | E4: PŘÍJMY | F4: VÝDAJE
A5: 2143 | B5: Cestovní ruch | C5: 0 | D5: 525000 | E5: 0 | F5: 525000
A6: 6223 | B6: Mezinárodní spolupráce | C6: 0 | D6: 435000 | E6: 0 | F6: 435000
B7: CESTOVNÍ RUCH A ZAHR. SPOLUPRÁCE | C7: 0 | D7: =SUM(D5:D6) -> 960000 | E7: 0 | F7: =SUM(F5:F6) -> 960000
A8: 3111 | B8: Mateřské školy | C8: 14000 | D8: 4400000 | E8: 14000 | F8: 4500000
A9: 3113 | B9: Základní školy | C9: 14000 | D9: 19500000 | E9: 14000 | F9: 19700000
A10: 3141 | B10: ŠJ 1. máje | C10: 0 | D10: 1650000 | E10: 0 | F10: 1700000
A11: 3231 | B11: Základní umělecké školy | C11: 169000 | D11: 150000 | E11: 169000 | F11: 150000
A12: 3299 | B12: Granty vzdělávání | C12: 0 | D12: 150000 | E12: 0 | F12: 150000
A13: 3421 | B13: Dům dětí a mládeže | C13: 18000 | D13: 1200000 | E13: 18000 | F13: 1230000
B14: ŠKOLSTVÍ | C14: =SUM(C8:C13) -> 215000 | D14: =SUM(D8:D13) -> 27050000 | E14: =SUM(E8:E13) -> 215000 | F14: =SUM(F8:F13) -> 27430000
A15: 3311 | B15: Divadelní činnost | C15: 0 | D15: 600000 | E15: 0 | F15: 600000
A16: 3319 | B16: Kronika | C16: 0 | D16: 80000 | E16: 0 | F16: 80000
A17: 3322 | B17: Zachování a obnova kulturních památek | C17: 0 | D17: 880000 | E17: 0 | F17: 880000
A18: 3326 | B18: Kulturní památky místní | C18: 0 | D18: 200000 | E18: 0 | F18: 200000
A19: 3392 | B19: Městská kulturní zařízení | C19: 0 | D19: 15200000 | E19: 0 | F19: 15600000
A20: 3392 | B20: Příspěvky a granty kultura | C20: 0 | D20: 1105000 | E20: 0 | F20: 1105000
B21: KULTURA | C21: =SUM(C16:C20) -> 0 | D21: =SUM(D15:D20) -> 18065000 | E21: =SUM(E16:E20) -> 0 | F21: =SUM(F15:F20) -> 18465000
A22: 3341 | B22: Televizní vysílání | C22: 0 | D22: 1080000 | E22: 0 | F22: 1110000
A23: 3349 | B23: Ostatní záležitosti sdělovacích prostředků | C23: 0 | D23: 410000 | E23: 0 | F23: 410000
A24: 3392 | B24: Zájmová činnost v kultuře | C24: 0 | D24: 250000 | E24: 0 | F24: 250000
A25: 3399 | B25: Občanské záležitosti | C25: 0 | D25: 500000 | E25: 0 | F25: 500000
B26: PREZENTACE MĚSTA | C26: 0 | D26: =SUM(D22:D25) -> 2240000 | E26: 0 | F26: =SUM(F22:F25) -> 2270000
A27: 3412 | B27: Sportovní zařízení | C27: 0 | D27: 760000 | E27: 0 | F27: 760000
A28: 3419 | B28: Sportovec roku | C28: 0 | D28: 370000 | E28: 0 | F28: 370000
A29: 3419 | B29: Granty a příspěvky tělovýchova | C29: 0 | D29: 8350000 | E29: 0 | F29: 8350000
A30: 3419 | B30: Dotace mimo grantové řízení | C30: 0 | D30: 2520000 | E30: 0 | F30: 2520000
A31: 3429 | B31: Bazén | C31: 0 | D31: 4015000 | E31: 0 | F31: 4015000
B32: SPORT | C32: 0 | D32: =SUM(D27:D31) -> 16015000 | E32: 0 | F32: =SUM(F27:F31) -> 16015000
A33: 4339 | B33: Výkon pěstounské péče | C33: 0 | D33: 300000 | E33: 0 | F33: 300000
A34: 4341 | B34: Sociální pomoc osobám v hmotné nouzi | C34: 0 | D34: 300000 | E34: 0 | F34: 300000
A35: 4357 | B35: Domov seniorů | C35: 0 | D35: 9000000 | E35: 0 | F35: 9000000
A36: 4359 | B36: Klub seniorů | C36: 0 | D36: 580000 | E36: 0 | F36: 580000
A37: 4374 | B37: Azylové domy | C37: 0 | D37: 300000 | E37: 0 | F37: 300000
A38: 4379 | B38: Granty a příspěvky v oblasti sociální | C38: 0 | D38: 600000 | E38: 0 | F38: 600000
A39: 4399 | B39: Ostatní záležitosti soc.věcí | C39: 0 | D39: 180000 | E39: 0 | F39: 180000
A40: 6171 | B40: OSPOD, sociální práce | C40: 6500000 | D40: 560000 | E40: 6500000 | F40: 560000
B41: SOCIÁLNÍ ZÁLEŽITOSTI | C41: =SUM(C33:C40) -> 6500000 | D41: =SUM(D33:D40) -> 11820000 | E41: =SUM(E33:E40) -> 6500000 | F41: =SUM(F33:F40) -> 11820000
...

Sheet 2.1.Návrhy dalších investic
B1: 2.1. NÁVRHY DALŠÍCH INVESTIC - ke schválení v únoru 2022 (v Kč)
A3: č.ř. | B3: TEXT | C3: PŘÍJMY | D3: VÝDAJE
A4: 1 | B4: Přístavba tělocvičny k ZŠ Drahotuše (usn. 494/2021 - ZM 23 z 29. 4. 21) | D4: 80000000
A5: 2 | B5: Výměna 2 ks kamer za zastaralé a nefukční (Tř. 1. máje a Zám. park) | D5: 100000
A6: 3 | B6: Automatický externí defibrilátor | D6: 55000
A7: 4 | B7: Regenerace panelového sídliště Struhlovsko III. etapa - PD | D7: 1000000
A8: 5 | B8: Chodník v ulici K nádraží - Drahotuše | C8: 2000000 | D8: 3500000
A9: 6 | B9: Úprava foyer staré radníce č.p. 71 - realizace | D9: 4800000
A10: 7 | B10: Rek. komunikace Pod Bílým kamenem - realizace - navýšení o 5 mil. | D10: 18000000
A11: 8 | B11: Vodovod v ulici Pivovarská - PD | D11: 150000
A12: 9 | B12: Rekonstrukce ulice Zborovská - DSP, RPD | D12: 950000
A13: 10 | B13: Úprava návsí Lhotka-realizace | D13: 1300000
A14: 11 | B14: Veřejné prostranství mezi zámkem a zámeckým hotelem | C14: 10000000 | D14: 18000000
A15: 12 | B15: Regenerace panelového sídliště Struhlovsko II. etapa, 2. část-realizace | C15: 6000000 | D15: 20000000
A16: 13 | B16: Oprava biologických rybníků ve Středolesí (druhý a třetí rybník) | D16: 1130000
A17: 14 | B17: Hospodaření s dešťovou vodou - ZŠ Šromotovo | C17: 8730000 | D17: 10500000
A18: 15 | B18: Rek. městského hřbitova v Hranicích I. a III.etapa | D18: 7000000
A19: 16 | B19: Parkoviště Bezručova jih | D19: 800000
A20: 17 | B20: Výtah stará radnice PD + realizace | D20: 1000000
A21: 18 | B21: Přechod pro chodce Hranická | C21: 500000 | D21: 1000000
A22: 19 | B22: Světelná křižovatka U Černého orla - dpoplatek rozpoču | D22: 3000000
A23: 20 | B23: veřejné prostranství; Hradební okruh Komenského; PD + STP | D23: 3500000
A24: 21 | B24: novostavba; Veřejné toalety v centru města; PD + realizace | D24: 2000000
A25: 22 | B25: Výkup pozemků Cyklostezkla Slavíč II.etapa po dokončení stavby | D25: 1000000
A26: 23 | B26: Pořízení PD pro opravu hřbitovní zdi v Drahotuších | D26: 160000
A27: 24 | B27: Informační systémy pro cestující ve veřejné dopravě v Hranicích PD | C27: 800000 | D27: 1000000
A28: 25 | B28: Oprava chodníku v ulici Purgešova a Galašova | C28: 450000 | D28: 900000
A29: 26 | B29: čp. 1 Pernštejnské nám., Hranice - výměna střešních oken | D29: 1000000
A30: 27 | B30: Pernštejnské nám. 1 - generální oprava zastřešení dvorany | C30: 15000000 | D30: 18000000
A31: 28 | B31: Nerudova 1848 - PD vč. realizace rekonstrukce střechy a hromosvodů | D31: 2000000
A32: 29 | B32: Tísňová zařízení pro seniory - zavední služby s org. Anděl na drátě | D32: 60000
A33: 30 | B33: Rekonstrukce fasády kaple ve Velké | C33: 50000 | D33: 800000
A34: 31 | B34: Klub seniorů Hranice- výmalba vnitřních prostor | D34: 80000
A35: 32 | B35: MŠ Pohádka - oprava elektrorozvodů ve třídách | D35: 1900000
A36: 33 | B36: MŠ Sluníčko - dětské hřiště | D36: 4019000
A37: 34 | B37: Školní jídelna 1. máje Hranice - PD - rekonstrukce kuchyně | D37: 500000
A38: 35 | B38: ŠJ 1. máje Hranice - Instalace tunelové myčky nádobí ve výdejně | D38: 1000000
A39: 36 | B39: Domov seniorů Hranice - Vzduchotechnika II. etapa | D39: 2266000
A40: 37 | B40: ZŠ a MŠ Šromotovo - rekonstrukce školní jídelny - PD | D40: 910000
A41: 38 | B41: Skatepark překážky oprava | D41: 790000
...

Sheet 1.1.Příjmy dle položek
B1: 1.1. PŘÍJMY dle položek (v Kč)
A3: č.ř. | B3: ORJ | C3: ORG | D3: ODD§ | E3: POL | F3: TEXT | G3: SR 2021 | H3: návrh 2022 | J3: rozdíl | K3: komentář
G4: 0 | H4: 0 | J4: =H4-G4 -> 0
A5: 1 | B5: 1 | D5: CESTOVNÍ RUCH A ZAHRANIČNÍ SPOLUPRÁCE | G5: =SUM(G4) -> 0 | H5: =SUM(H4) -> 0 | J5: =H5-G5 -> 0
A6: 2 | B6: 2 | C6: 2000000000000 | D6: 3111 | E6: 2132 | F6: Mateřské školy | G6: 14000 | H6: 14000 | J6: =H6-G6 -> 0
A7: 3 | B7: 2 | C7: 2000000000000 | D7: 3113 | E7: 2132 | F7: Základní školy | G7: 14000 | H7: 14000 | J7: =H7-G7 -> 0
A8: 4 | B8: 2 | C8: 2000000000000 | D8: 3231 | E8: 2132 | F8: Základní umělecká škola | G8: 169000 | H8: 169000 | J8: =H8-G8 -> 0
A9: 5 | B9: 2 | C9: 2000000000000 | D9: 3421 | E9: 2132 | F9: Dům dětí a mládeže | G9: 18000 | H9: 18000 | J9: =H9-G9 -> 0
A10: 6 | B10: 2 | D10: ŠKOLSTVÍ | G10: =SUM(G6:G9) -> 215000 | H10: =SUM(H6:H9) -> 215000 | J10: =H10-G10 -> 0
A11: 7 | G11: 0 | H11: 0 | J11: =H11-G11 -> 0
A12: 8 | B12: 3 | D12: KULTURA | G12: =SUM(G11) -> 0 | H12: =SUM(H11) -> 0 | J12: =H12-G12 -> 0
A13: 9 | G13: 0 | H13: 0 | J13: =H13-G13 -> 0
A14: 10 | B14: 4 | D14: PREZENTACE MĚSTA | G14: 0 | H14: 0 | J14: =H14-G14 -> 0
A15: 11 | G15: 0 | H15: 0 | J15: =H15-G15 -> 0
A16: 12 | B16: 5 | D16: SPORT | G16: 0 | H16: 0 | J16: =H16-G16 -> 0
A17: 13 | B17: 6 | C17: 7000000000000 | D17: 6399 | E17: 2329 | F17: Ostatní příjmy - transfery v sociální oblasti | G17: 6500000 | H17: 6500000 | J17: =H17-G17 -> 0
A18: 14 | B18: 6 | D18: SOCIÁLNÍ ZÁLEŽITOSTI | G18: =SUM(G17) -> 6500000 | H18: =SUM(H17) -> 6500000 | J18: =H18-G18 -> 0
A19: 15 | B19: 7 | C19: 3000000000501 | D19: 3612 | E19: 2132 | F19: Přijmy z pronájmu | G19: 7585000 | H19: 5195000 | J19: =H19-G19 -> -2390000
A20: 16 | B20: 7 | C20: 3000000000501 | D20: 3612 | E20: 2329 | F20: Ostatní příjmy z vlastní činnosti | G20: 10000 | H20: 10000 | J20: =H20-G20 -> 0
A21: 17 | B21: 7 | C21: 3000000000502 | D21: 3612 | E21: 2132 | F21: Příjmy z pronájmu byty Jižní | G21: 135000 | H21: 135000 | J21: =H21-G21 -> 0
A22: 18 | B22: 7 | D22: 3612 | F22: Bytové hospodářství celkem | G22: =SUM(G19:G21) -> 7730000 | H22: =SUM(H19:H21) -> 5340000 | J22: =H22-G22 -> -2390000
A23: 19 | B23: 7 | C23: 3000000000501 | D23: 3613 | E23: 2132 | F23: Přijmy z pronájmu ost. nemovit. Ekoltes | G23: 2380000 | H23: 2330000 | J23: =H23-G23 -> -50000
A24: 20 | B24: 7 | C24: 3000000007057 | D24: 3613 | E24: 2132 | F24: Příjmy z pronájmu | G24: 1750000 | H24: 1750000 | J24: =H24-G24 -> 0
A25: 21 | B25: 7 | D25: 3613 | F25: Nebytové prostory celkem | G25: =SUM(G23:G24) -> 4130000 | H25: =SUM(H23:H24) -> 4080000 | J25: =H25-G25 -> -50000
A26: 22 | B26: 7 | C26: 3000000000000 | D26: 3639 | E26: 2131 | F26: Pozemky | G26: 1500000 | H26: 1700000 | J26: =H26-G26 -> 200000
A27: 23 | B27: 7 | D27: NAKLÁDÁNÍ S NEMOVITOSTMI | G27: =SUM(G22+G25+G26) -> 13360000 | H27: =SUM(H22+H25+H26) -> 11120000 | J27: =H27-G27 -> -2240000
A28: 24 | B28: 8 | C28: 3000000000000 | D28: 2219 | E28: 2111 | F28: Parkoviště – zpoplatněný parkovací systém | G28: 3100000 | H28: 2700000 | J28: =H28-G28 -> -400000
A29: 25 | B29: 8 | D29: KOMUNIKACE | G29: =G28 -> 3100000 | H29: =H28 -> 2700000 | J29: =H29-G29 -> -400000
A30: 26 | G30: 0 | H30: 0 | J30: =H30-G30 -> 0
A31: 27 | B31: 9 | D31: DOPRAVA | G31: 0 | H31: 0 | J31: =H31-G31 -> 0
A32: 28 | B32: 10 | C32: 7000000007013 | E32: 1343 | F32: Tržnice - místní poplatek | G32: 80000 | H32: 80000 | J32: =H32-G32 -> 0
A33: 29 | B33: 10 | C33: 3000000000000 | D33: 3632 | E33: 2139 | F33: Pohřebnictví | G33: 800000 | H33: 800000 | J33: =H33-G33 -> 0
A34: 30 | B34: 10 | D34: KOMUNÁLNÍ SLUŽBY A ÚZEMNÍ ROZVOJ | G34: =SUM(G32:G33) -> 880000 | H34: =SUM(H32:H33) -> 880000 | J34: =H34-G34 -> 0
A35: 31 | B35: 11 | C35: 7000000000000 | E35: 1340 | F35: Komunální odpad | G35: 9400000 | H35: 9400000 | J35: =H35-G35 -> 0
A36: 32 | B36: 11 | C36: 3000000000000 | D36: 3723 | E36: 2324 | F36: Zpětný odběr elektrozařízení | G36: 180000 | H36: 180000 | J36: =H36-G36 -> 0
A37: 33 | B37: 11 | C37: 3000000000000 | D37: 3725 | E37: 2324 | F37: Tříděný odpad | G37: 1900000 | H37: 1900000 | J37: =H37-G37 -> 0
A38: 34 | B38: 11 | D38: ODPADY | G38: =SUM(G35:G37) -> 11480000 | H38: =SUM(H35:H37) -> 11480000 | J38: =H38-G38 -> 0
A39: 35 | B39: 12 | C39: 5000000000000 | D39: 5512 | E39: 2111 | F39: Smlouva s obcí Teplice n. B. | G39: 40000 | H39: 40000 | J39: =H39-G39 -> 0
A40: 36 | B40: 12 | D40: KRIZOVÉ ŘÍZENÍ A POŽÁRNÍ OCHRANA | G40: =G39 -> 40000 | H40: =H39 -> 40000 | J40: =H40-G40 -> 0
A41: 37 | B41: 13 | C41: 4000000000000 | D41: 5311 | E41: 2212 | F41: Městská policie pokuty | G41: 300000 | H41: 250000 | J41: =H41-G41 -> -50000
...

Sheet 1.2.Výdaje dle položek
B1: 1.2. VÝDAJE dle položek (v Kč)
A3: č.ř. | B3: ORJ | C3: ORG | D3: ODD§ | E3: POL | F3: text | G3: SR 2021 | H3: návrh 2022 | J3: rozdíl | K3: komentář
A4: 1 | B4: 1 | C4: 2000000000000 | D4: 2143 | E4: 5139 | F4: Materiál - tisk nových a dotisky letáků a brožur | G4: 150000 | H4: 150000 | J4: =H4-G4 -> 0
A5: 2 | B5: 1 | C5: 2000000000000 | D5: 2143 | E5: 5169 | F5: Služby - inzerce, služby při akcích | G5: 110000 | H5: 110000 | J5: =H5-G5 -> 0
A6: 3 | B6: 1 | C6: 2000000000000 | D6: 2143 | E6: 5171 | F6: Údržba orient.systému, nauč.trasy a inf.tabulí | G6: 100000 | H6: 100000 | J6: =H6-G6 -> 0
A7: 4 | B7: 1 | C7: 2000000000000 | D7: 2143 | E7: 5175 | F7: Občerstvení prac. skupina cestovního ruchu | G7: 5000 | H7: 5000 | J7: =H7-G7 -> 0
A8: 5 | B8: 1 | C8: 2000000000000 | D8: 2143 | E8: 5194 | F8: Upomín. předměty s logem nebo znakem města | G8: 160000 | H8: 160000 | J8: =H8-G8 -> 0
A9: 6 | B9: 1 | D9: 2143 | E9: Cestovní ruch | G9: =SUM(G4:G8) -> 525000 | H9: =SUM(H4:H8) -> 525000 | J9: =H9-G9 -> 0
A10: 7 | B10: 1 | C10: 2000000000000 | D10: 6223 | E10: 5139 | F10: Materiál - při akcích s partnerskými městy | G10: 4000 | H10: 4000 | J10: =H10-G10 -> 0
A11: 8 | B11: 1 | C11: 2000000000000 | D11: 6223 | E11: 5169 | F11: Služby - tvorba videí, přenosy | G11: 32000 | H11: 32000 | J11: =H11-G11 -> 0
A12: 9 | B12: 1 | C12: 2000000000000 | D12: 6223 | E12: 5175 | F12: Občerstvení hostů z partnerských měst | G12: 30000 | H12: 30000 | J12: =H12-G12 -> 0
A13: 10 | B13: 1 | C13: 2000000000000 | D13: 6223 | E13: 5194 | F13: Dary | G13: 19000 | H13: 19000 | J13: =H13-G13 -> 0
A14: 11 | B14: 1 | C14: 2000000003105 | D14: 6223 | E14: 5222 | F14: Dotace - Granty spolupráce partnerských m. | G14: 0 | H14: 350000 | J14: =H14-G14 -> 350000
A15: 12 | B15: 1 | D15: 6223 | E15: Mezinárodní spolupráce | G15: =SUM(G10:G14) -> 85000 | H15: =SUM(H10:H14) -> 435000 | J15: =H15-G15 -> 350000
A16: 13 | B16: 1 | D16: CESTOVNÍ RUCH A ZAHRANIČNÍ SPOLUPRÁCE | G16: =G9+G15 -> 610000 | H16: =H9+H15 -> 960000 | J16: =H16-G16 -> 350000
A17: 14 | B17: 2 | C17: 2000000000000 | D17: 3111 | E17: 5171 | F17: Opravy a udržování MŠ | G17: 130000 | H17: 301000 | J17: =H17-G17 -> 171000 | K17: Čištění fasád MŠ Pohádka 100 tis., MŠ Míček a Sluníčko 2x 50 tis.,naposl.čišt.v r.2018,dle dopor.fi do 3 let. Rezerva na havar.a poj.udál.100 tis. Kč.
A18: 15 | B18: 2 | C18: 2000000000304 | D18: 3111 | E18: 5331 | F18: Příspěvek na provoz MŠ Pohádka - Palackého | G18: 790000 | H18: 1215000 | J18: =H18-G18 -> 425000 | K18: Navýšení dle usnesením RM 1471/2021 – RM 55 z 19. 01. 2021 - schválení výhledů na roky 2022 a 23 o 3 % inflace
A19: 16 | B19: 2 | C19: 2000000000341 | D19: 3111 | E19: 5331 | F19: Příspěvek na provoz MŠ Míček - Galašova | G19: 735000 | H19: 1057000 | J19: =H19-G19 -> 322000 | K19: a navýšení energií dle vysoutěžených cen pro rok 2022.
A20: 17 | B20: 2 | C20: 2000000000363 | D20: 3111 | E20: 5331 | F20: Příspěvek na provoz MŠ Sluníčko - Plynárenská | G20: 735000 | H20: 1057000 | J20: =H20-G20 -> 322000
A21: 18 | B21: 2 | C21: 2000000000400 | D21: 3111 | E21: 5229 | F21: Dotace soukromé MŠ Prima | G21: 280000 | H21: 280000 | J21: =H21-G21 -> 0
A22: 19 | B22: 2 | C22: 2000000000401 | D22: 3111 | E22: 5229 | F22: Dotace soukr. MŠ Dětské centrum Struhlovsko | G22: 460000 | H22: 460000 | J22: =H22-G22 -> 0
A23: 20 | B23: 2 | D23: 3111 | E23: Mateřské školy | G23: =SUM(G17:G22) -> 3130000 | H23: =SUM(H17:H22) -> 4370000 | J23: =H23-G23 -> 1240000
A24: 21 | B24: 2 | C24: 2000000000000 | D24: 3113 | E24: 5171 | F24: Opravy a udržování ZŠ | G24: 195000 | H24: 250000 | J24: =H24-G24 -> 55000 | K24: Na havarjní opravy a pojistné události, případně projektovou přípravu na budovách základních škol.
A25: 22 | B25: 2 | C25: 2000000000311 | D25: 3113 | E25: 5331 | F25: Příspěvek na provoz ZŠ 1. máje | G25: 3436000 | H25: 4210000 | J25: =H25-G25 -> 774000 | K25: Navýšení dle usnesením RM 1471/2021 – RM 55 z 19. 01. 2021 - schválení výhledů na roky 2022 a 23 o 3 % inflace
A26: 23 | B26: 2 | C26: 2000000000312 | D26: 3113 | E26: 5331 | F26: Příspěvek na provoz ZŠ Šromotovo | G26: 4000000 | H26: 5090000 | J26: =H26-G26 -> 1090000 | K26: a navýšení energií dle vysoutěžených cen pro rok 2022.
A27: 24 | B27: 2 | C27: 2000000000313 | D27: 3113 | E27: 5331 | F27: Příspěvek na provoz ZŠ Struhlovsko | G27: 4577000 | H27: 5687000 | J27: =H27-G27 -> 1110000
A28: 25 | B28: 2 | C28: 2000000000314 | D28: 3113 | E28: 5331 | F28: Příspěvek na provoz ZŠ Drahotuše | G28: 2722000 | H28: 3764000 | J28: =H28-G28 -> 1042000 | K28: Ve škole v roce 2021 otevřeny nové polytechnické učebny, škola žádá navýšení příspěvku na provoz o 180 tis. Kč.
A29: 26 | B29: 2 | C29: 2000000000000 | D29: 3113 | E29: 5331 | F29: Příspěvek na pomůcky pro prvňáčky | G29: 200000 | H29: 200000 | J29: =H29-G29 -> 0
A30: 27 | B30: 2 | D30: 3113 | E30: Základní školy | G30: =SUM(G24:G29) -> 15130000 | H30: =SUM(H24:H29) -> 19201000 | J30: =H30-G30 -> 4071000
A31: 28 | B31: 2 | C31: 2000000000356 | D31: 3141 | E31: 5331 | F31: Příspěvek na provoz ŠJ 1. máje | G31: 1210000 | H31: 1646000 | J31: =H31-G31 -> 436000 | K31: Navýšení dle usn.RM 1471/2021 – RM 55 z 19.01.2021 schválení výhledů na r.2022 a 23 o 3 % inflace a navýš.energií dle vysoutěž.cen pro r.2022.
A32: 29 | B32: 2 | D32: 3141 | E32: ŠJ 1. máje | G32: =SUM(G31) -> 1210000 | H32: =SUM(H31) -> 1646000 | J32: =H32-G32 -> 436000
A33: 30 | B33: 2 | C33: 2000000000336 | D33: 3231 | E33: 5171 | F33: Opravy a udržování ZUŠ | G33: 0 | H33: 150000 | J33: =H33-G33 -> 150000 | K33: Zapracování každoroční částky na případné havarie a údržbu budovy z nájemného od OK.
A34: 31 | B34: 2 | D34: 3231 | E34: Základní umělecké školy | G34: =SUM(G33) -> 0 | H34: =SUM(H33) -> 150000 | J34: =H34-G34 -> 150000
A35: 32 | B35: 2 | C35: 2000000003103 | D35: 3299 | E35: 5222 | F35: Dotace - Granty vzdělávání | G35: 0 | H35: 150000 | J35: =H35-G35 -> 150000
A36: 33 | B36: 2 | D36: 3299 | E36: Granty vzdělávání | G36: =SUM(G35) -> 0 | H36: =SUM(H35) -> 150000 | J36: =H36-G36 -> 150000
A37: 34 | B37: 2 | C37: 2000000000337 | D37: 3421 | E37: 5331 | F37: Příspěvek na provoz Dům dětí a mládeže | G37: 950000 | H37: 1178000 | J37: =H37-G37 -> 228000 | K37: Navýšení dle usn.RM 1471/2021 – RM 55 z 19.01.2021 schválení výhledů na r.2022 a 23 o 3 % inflace a navýš.energií dle vysoutěž.cen pro r.2022.
A38: 35 | B38: 2 | D38: 3421 | E38: 5171 | F38: Opravy a udržování Dům dětí a mládeže | G38: 0 | H38: 100000 | J38: =H38-G38 -> 100000 | K38: Čištění a oprava fasády, naposl.čišt.v r.2018, dle dopor.fi do 3 let. Rezerva na případné havarie a pojistné události.
A39: 36 | B39: 2 | D39: 3421 | E39: Dům dětí a mládeže | G39: =SUM(G37:G37) -> 950000 | H39: =SUM(H37:H37) -> 1178000 | J39: =H39-G39 -> 228000
A40: 37 | B40: 2 | D40: ŠKOLSTVÍ | G40: =G23+G30+G32+G34+G36+G39 -> 20420000 | H40: =H23+H30+H32+H34+H36+H39 -> 26695000 | J40: =H40-G40 -> 6275000
A41: 38 | B41: 3 | C41: 2000000003400 | D41: 3311 | E41: 5212 | F41: Dotace na provoz divadla Stará střelnice. | G41: 500000 | H41: 600000 | J41: =H41-G41 -> 100000
...

Sheet Příjmy odd.§ historie
A1: 1.3. PŘÍJMY dle odd.§ s historií (v tis. Kč)
A3: ORJ | B3: ORG | C3: ODD§ | D3: Text | E3: SR 2020 | F3: skut. 2020 | G3: SR 2021 | H3: UR 2021 | I3: skut 1-10 | J3: plán 1-12
E4: 0 | F4: 0 | G4: 0 | H4: 0 | I4: 0 | J4: 0
A5: 1 | C5: CESTOVNÍ RUCH A ZAHRANIČNÍ SPOLUPRÁCE | E5: 0 | F5: 0 | G5: =SUM(G4) -> 0 | H5: =SUM(H4) -> 0 | I5: =SUM(I4) -> 0 | J5: =SUM(J4) -> 0
A6: 2 | B6: 20 | C6: 3111 | D6: Mateřské školy | E6: 14 | F6: 16 | G6: 14 | H6: 14 | I6: 14 | J6: 14
A7: 2 | B7: 20 | C7: 3111 | D7: Dotace MŠ | E7: 0 | F7: 481 | G7: 0 | H7: 0 | I7: 0 | J7: 0
A8: 2 | B8: 20 | C8: 3113 | D8: Základní školy | E8: 14 | F8: 14 | G8: 14 | H8: 14 | I8: 11 | J8: 14
A9: 2 | B9: 70 | C9: 3113 | D9: Dotace ZŠ | E9: 0 | F9: 1754 | G9: 0 | H9: 2525 | I9: 3220 | J9: 3220
A10: 2 | C10: 3141 | D10: ŠJ 1. máje | E10: 0 | F10: 140 | G10: 0 | H10: 0 | I10: 0 | J10: 0
A11: 2 | B11: 20 | C11: 3231 | D11: Základní umělecké školy | E11: 169 | F11: 169 | G11: 169 | H11: 187 | I11: 169 | J11: 169
A12: 2 | B12: 20 | C12: 3421 | D12: Dům dětí a mládeže | E12: 18 | F12: 18 | G12: 18 | H12: 0 | I12: 18 | J12: 18
A13: 2 | C13: ŠKOLSTVÍ | E13: =SUM(E6:E12) -> 215 | F13: =SUM(F6:F12) -> 2592 | G13: =SUM(G6:G12) -> 215 | H13: =SUM(H6:H12) -> 2740 | I13: =SUM(I6:I12) -> 3432 | J13: =SUM(J6:J12) -> 3435
A14: 3 | B14: 70 | C14: 3392 | D14: Zachování a obnova kulturních památek | E14: 0 | F14: 50 | G14: 0 | H14: 53 | I14: 53 | J14: 53
A15: 3 | B15: 70 | D15: Program regenerace MPZ | E15: 0 | F15: 445 | G15: 0 | H15: 1165 | I15: 1165 | J15: 1165
A16: 3 | B16: 70 | D16: Dotace MKZ | E16: 0 | F16: 1222 | G16: 0 | H16: 775 | I16: 775 | J16: 775
A17: 3 | C17: KULTURA | E17: =SUM(E16) -> 0 | F17: =SUM(F14:F16) -> 1717 | G17: =SUM(G15:G16) -> 0 | H17: =SUM(H14:H16) -> 1993 | I17: =SUM(I14:I16) -> 1993 | J17: =SUM(J14:J16) -> 1993
A18: 4 | E18: 0 | F18: 0 | G18: 0 | H18: 0 | I18: 0 | J18: 0
A19: 4 | C19: PREZENTACE MĚSTA | E19: 0 | F19: 0 | G19: =G18 -> 0 | H19: =H18 -> 0 | I19: =I18 -> 0 | J19: =J18 -> 0
A20: 5 | B20: 20 | C20: 3419 | D20: Ostatní tělovýchovná činnost | E20: 0 | F20: 27 | G20: 0 | H20: 77 | I20: 140 | J20: 140
A21: 5 | C21: SPORT | E21: =SUM(E20) -> 0 | F21: =SUM(F20) -> 27 | G21: =G20 -> 0 | H21: =H20 -> 77 | I21: =I20 -> 140 | J21: =J20 -> 140
A22: 6 | B22: 70 | C22: 4357 | D22: Domov seniorů vratka dotace | E22: 0 | F22: 2500 | G22: 0 | H22: 510 | I22: 510 | J22: 510
A23: 6 | B23: 20 | D23: Domov seniorů - dotace ÚZ 13305,13351 | E23: 0 | F23: 37880 | G23: 0 | H23: 38289 | I23: 38289 | J23: 38289
B24: 20 | C24: 4359 | D24: Klub seniorů | E24: 0 | F24: 0 | G24: 0 | H24: 0 | I24: 13 | J24: 13
A25: 6 | B25: 70 | D25: Podpora terénní práce - dotace ÚZ 04428 | E25: 0 | F25: 300 | G25: 0 | H25: 210 | I25: 210 | J25: 210
A26: 6 | B26: 70 | D26: Výkon pěstounské péče - dotace ÚZ 13010 | E26: 0 | F26: 384 | G26: 0 | H26: 348 | I26: 348 | J26: 348
A27: 6 | B27: 70 | D27: Sociálně právní ochrana dětí - dotace ÚZ 13011 | E27: 6500 | F27: 6672 | G27: 0 | H27: 6662 | I27: 6662 | J27: 6662
A28: 6 | B28: 70 | D28: Sociální práce - dotace ÚZ 13015 | E28: 0 | F28: 801 | G28: 0 | H28: 962 | I28: 962 | J28: 962
A29: 6 | B29: 70 | D29: Sociální práce - dotace ÚZ 13018 | G29: 0 | H29: 84 | I29: 84 | J29: 84
A30: 6 | B30: 70 | D30: Předfinancování dotací | E30: 0 | F30: 0 | G30: 6500 | H30: 0 | I30: 0 | J30: 0
A31: 6 | C31: SOCIÁLNÍ ZÁLEŽITOSTI | E31: =SUM(E22:E30) -> 6500 | F31: =SUM(F22:F30) -> 48537 | G31: =SUM(G22:G30) -> 6500 | H31: =SUM(H22:H30) -> 47065 | I31: =SUM(I22:I30) -> 47078 | J31: =SUM(J22:J30) -> 47078
A32: 7 | B32: 30 | C32: 3612 | D32: Bytové hospodářství - Ekoltes | E32: 7910 | F32: 7783 | G32: 7595 | H32: 7595 | I32: 7014 | J32: 8000
A33: 7 | B33: 30 | C33: 3612 | D33: Bytové hospodářství - Moravská Brána | E33: 150 | F33: 135 | G33: 135 | H33: 135 | I33: 95 | J33: 135
A34: 7 | B34: 30 | C34: 3613 | D34: Nebytové hospodářství - Ekoltes | E34: 2300 | F34: 2395 | G34: 2380 | H34: 2380 | I34: 1844 | J34: 2200
A35: 7 | B35: 30 | C35: 3613 | D35: Nebytové hospodářství | E35: 1750 | F35: 2320 | G35: 1750 | H35: 1750 | I35: 1999 | J35: 2300
A36: 7 | B36: 30 | C36: 3639 | D36: Pozemky | E36: 1500 | F36: 2503 | G36: 1500 | H36: 1500 | I36: 2586 | J36: 2700
A37: 7 | C37: NAKLÁDÁNÍ S NEMOVITOSTMI | E37: =SUM(E32:E36) -> 13610 | F37: =SUM(F32:F36) -> 15136 | G37: =SUM(G32:G36) -> 13360 | H37: =SUM(H32:H36) -> 13360 | I37: =SUM(I32:I36) -> 13538 | J37: =SUM(J32:J36) -> 15335
A38: 8 | B38: 30 | C38: 2219 | D38: Parkovací systém | E38: 3450 | F38: 2350 | G38: 3100 | H38: 3100 | I38: 2046 | J38: 2500
A39: 8 | C39: KOMUNIKACE | E39: =SUM(E38) -> 3450 | F39: =SUM(F38) -> 2350 | G39: =G38 -> 3100 | H39: =H38 -> 3100 | I39: =I38 -> 2046 | J39: =J38 -> 2500
A40: 9 | B40: 30 | D40: Doprava | E40: 0 | F40: 0 | G40: 0 | H40: 0 | I40: 0 | J40: 0
A41: 9 | C41: DOPRAVA | E41: =SUM(E40) -> 0 | F41: =SUM(F40) -> 0 | G41: =G40 -> 0 | H41: =H40 -> 0 | I41: =I40 -> 0 | J41: =J40 -> 0
...

Sheet Výdaje odd.§ historie
A1: 1.4. VÝDAJE s historií (v tis. Kč)
A3: ORJ | B3: ORG | C3: ODD§ | D3: Text | E3: SR 2020 | F3: skut. 2020 | G3: SR 2021 | H3: UR 2021 | I3: skut 1-10 | J3: plán 1-12
A4: 1 | B4: 20 | C4: 2143 | D4: Cestovní ruch | E4: 705 | F4: 282 | G4: 525 | H4: 455 | I4: 185 | J4: 200
A5: 1 | B5: 20 | C5: 6223 | D5: Mezinárodní spolupráce | E5: 235 | F5: 9 | G5: 85 | H5: 85 | I5: 8 | J5: 85
A6: 1 | B6: 20 | C6: 6223 | D6: Granty zahraniční spolupráce | E6: 350 | F6: 70 | G6: 0 | H6: 95 | I6: 45 | J6: 45
A7: 1 | C7: CESTOVNÍ RUCH A ZAHRANIČNÍ SPOLUPRÁCE | E7: =SUM(E4:E6) -> 1290 | F7: =SUM(F4:F6) -> 361 | G7: =SUM(G4:G6) -> 610 | H7: =SUM(H4:H6) -> 635 | I7: =SUM(I4:I6) -> 238 | J7: =SUM(J4:J6) -> 330
A8: 2 | B8: 20 | C8: 3111 | D8: Mateřské školy | E8: 3302 | F8: 3109 | G8: 3130 | H8: 3120 | I8: 2911 | J8: 3020
A9: 2 | B9: 20 | C9: 3111 | D9: Mateřské školy - dotace | E9: 0 | F9: 481 | G9: 0 | H9: 0 | I9: 0 | J9: 0
A10: 2 | B10: 20 | C10: 3113 | D10: Základní školy | E10: 16173 | F10: 15776 | G10: 15130 | H10: 15326 | I10: 15091 | J10: 15326
A11: 2 | B11: 20 | C11: 3113 | D11: Základní školy - dotace | E11: 0 | F11: 1625 | G11: 0 | H11: 2525 | I11: 2525 | J11: 2525
A12: 2 | B12: 20 | C12: 3141 | D12: ŠJ 1. máje | E12: 1287 | F12: 1341 | G12: 1210 | H12: 1210 | I12: 1210 | J12: 1210
A13: 2 | B13: 20 | C13: 3231 | D13: Základní umělecká škola | E13: 200 | F13: 0 | G13: 0 | H13: 0 | I13: 0 | J13: 0
A14: 2 | B14: 20 | C14: 3299 | D14: Granty vzdělávání | E14: 150 | F14: 57 | G14: 0 | H14: 30 | I14: 30 | J14: 30
A15: 2 | B15: 20 | C15: 3421 | D15: Dům dětí a mládeže | E15: 1068 | F15: 1020 | G15: 950 | H15: 950 | I15: 950 | J15: 950
A16: 2 | C16: ŠKOLSTVÍ | E16: =SUM(E8:E15) -> 22180 | F16: =SUM(F8:F15) -> 23409 | G16: =SUM(G8:G15) -> 20420 | H16: =SUM(H8:H15) -> 23161 | I16: =SUM(I8:I15) -> 22717 | J16: =SUM(J8:J15) -> 23061
A17: 3 | B17: 20 | C17: 3311 | D17: Divadelní činnost - dotace divadlo Stará střelnice | E17: 600 | F17: 600 | G17: 500 | H17: 500 | I17: 500 | J17: 500
A18: 3 | B18: 20 | C18: 3319 | D18: Kronika | E18: 70 | F18: 53 | G18: 70 | H18: 90 | I18: 70 | J18: 90
A19: 3 | B19: 20 | C19: 3322 | D19: Zachování a obnova kulturních památek | E19: 315 | F19: 331 | G19: 422 | H19: 656 | I19: 577 | J19: 650
A20: 3 | B20: 20 | C20: 3322 | D20: Program regenerace MPZ | E20: 0 | F20: 445 | G20: 0 | H20: 1165 | I20: 1165 | J20: 1165
A21: 3 | B21: 20 | C21: 3322 | D21: Granty památková péče | E21: 450 | F21: 350 | G21: 0 | H21: 0 | I21: 19 | J21: 19
A22: 3 | B22: 20 | C22: 3326 | D22: Zachování památek místního významu | E22: 162 | F22: 152 | G22: 200 | H22: 240 | I22: 112 | J22: 200
A23: 3 | B23: 20 | C23: 3392 | D23: Městská kulturní zařízení | E23: 13613 | F23: 11663 | G23: 13418 | H23: 13418 | I23: 13418 | J23: 13418
A24: 3 | B24: 20 | C24: 3392 | D24: Městská kulturní zařízení - dotace | E24: 0 | F24: 1222 | G24: 0 | H24: 775 | I24: 775 | J24: 775
A25: 3 | B25: 20 | C25: 3392 | D25: Příspěvky a granty kultura | E25: 1055 | F25: 705 | G25: 350 | H25: 520 | I25: 447 | J25: 447
A26: 3 | B26: 20 | C26: 3399 | D26: Dotace mimo grantové řízení | E26: 0 | F26: 0 | G26: 0 | H26: 162 | I26: 137 | J26: 137
A27: 3 | C27: KULTURA | E27: =SUM(E17:E26) -> 16265 | F27: =SUM(F17:F26) -> 15521 | G27: =SUM(G17:G26) -> 14960 | H27: =SUM(H17:H26) -> 17526 | I27: =SUM(I17:I26) -> 17220 | J27: =SUM(J17:J26) -> 17401
A28: 4 | B28: 20 | C28: 3341 | D28: Rozhlas a televize | E28: 960 | F28: 949 | G28: 990 | H28: 990 | I28: 894 | J28: 990
A29: 4 | B29: 20 | C29: 3349 | D29: Ostatní sdělovací prostředky | E29: 60 | F29: 195 | G29: 170 | H29: 230 | I29: 161 | J29: 200
A30: 4 | B30: 20 | C30: 3392 | D30: Zájmová činnost v kultuře | E30: 615 | F30: 105 | G30: 355 | H30: 465 | I30: 94 | J30: 350
A31: 4 | B31: 20 | C31: 3399 | D31: Občanské záležitosti | E31: 500 | F31: 262 | G31: 500 | H31: 638 | I31: 297 | J31: 550
A32: 4 | C32: PREZENTACE MĚSTA | E32: =SUM(E28:E31) -> 2135 | F32: =SUM(F28:F31) -> 1511 | G32: =SUM(G28:G31) -> 2015 | H32: =SUM(H28:H31) -> 2323 | I32: =SUM(I28:I31) -> 1446 | J32: =SUM(J28:J31) -> 2090
A33: 5 | B33: 20 | C33: 3412 | D33: Sportovní zařízení v majetku města | E33: 505 | F33: 337 | G33: 505 | H33: 517 | I33: 372 | J33: 480
A34: 5 | B34: 20 | C34: 3419 | D34: Tělovýchova | E34: 0 | F34: 0 | G34: 0 | H34: 50 | I34: 27 | J34: 27
A35: 5 | B35: 20 | C35: 3419 | D35: Sportovec roku | E35: 340 | F35: 280 | G35: 340 | H35: 340 | I35: 298 | J35: 298
A36: 5 | B36: 10 | C36: 3419 | D36: Granty na kulturní a sportovní zařízení | E36: 1000 | F36: 864 | G36: 0 | H36: 0 | I36: 0 | J36: 0
A37: 5 | B37: 20 | C37: 3419 | D37: Granty a příspěvky tělovýchova | E37: 6190 | F37: 5985 | G37: 5790 | H37: 5790 | I37: 5790 | J37: 5790
A38: 5 | B38: 20 | C38: 3419 | D38: Dotace smluvní opakované tělovýchova | E38: 2400 | F38: 2320 | G38: 2320 | H38: 2320 | I38: 2320 | J38: 2320
A39: 5 | B39: 20 | C39: 3419 | D39: Dotace mimo grant. řízení tělovýchova | E39: 500 | F39: 90 | G39: 0 | H39: 162 | I39: 115 | J39: 115
A40: 5 | B40: 81 | C40: 3429 | D40: Krytý a venkovní bazén | E40: 3480 | F40: 3480 | G40: 3480 | H40: 3480 | I40: 3480 | J40: 3480
A41: 5 | C41: SPORT | E41: =SUM(E33:E40) -> 14415 | F41: =SUM(F33:F40) -> 13356 | G41: =SUM(G33:G40) -> 12435 | H41: =SUM(H33:H40) -> 12659 | I41: =SUM(I33:I40) -> 12402 | J41: =SUM(J33:J40) -> 12510
...

Sheet Navýšení Ekoltes
C1: odd.§ | D1: rozpočet 2021 | E1: požadavek 2022
A2: 2001 | B2: RS - letní a zimní údržba komunikací | C2: 2212 | D2: 8017000 | E2: 8898000
A3: 2002 | B3: RS - blokové čištění komunikací | C3: 2212 | D3: 637000 | E3: 680000
A4: 2003 | B4: RS - jarní čištění komunikací | C4: 2212 | D4: 200000 | E4: 248000
A5: 2004 | B5: RS - letní a zimní údržba chodníků | C5: 2019 | D5: 5000000 | E5: 5443000
A6: 2005 | B6: RS - zimní údržba k cizím nemovitostem | C6: 2019 | D6: 590000 | E6: 680000
A7: 2006 | B7: RS - ruční očista chodníků, vývoz košů | C7: 2019 | D7: 1000000 | E7: 1334000
A8: 2007 | B8: RS - údržba zastávek | C8: 2019 | D8: 139000 | E8: 149000
A9: 2008 | B9: RS - opravy a údržba mobiliáře | C9: 3699 | D9: 260000 | E9: 360000
A10: 2008 | B10: RS - opravy a údržba mobiliáře | C10: 3699 | D10: 209000 | E10: 223000
A11: 2009 | B11: RS - opravy a údržba mobiliáře dětských hřišť | C11: 3699 | D11: 1040000 | E11: 1412000
A12: 2009 | B12: RS - opravy a údržba mobiliáře dětských hřišť | C12: 3699 | D12: 116000 | E12: 124000
A13: 2010 | B13: RS - in-line hřiště Žáčkova ul. | C13: 3412 | D13: 69000 | E13: 73600
... A45: 2046 | B45: RS - údržba Drahotušského náhonu | C45: 2341 | D45: 31000 | E45: 33000
A46: 20xx | B46: vozík a čerp. Kropáčova ul. | C46: 2212 | D46: 10000 | E46: 10000
A47: 20xx | B47: odstranění zeleně z hradeb | C47: 3745 | D47: 45000 | E47: 48000
B49: Celkem rámcová smlouva | D49: =SUM(D2:D47) -> 61564000 | E49: =SUM(E2:E48) -> 67106600
B51: veřejné osvětlení | C51: 3631 | D51: 8921000 | E51: 9019000
B52: provoz veř. pohřeb. | C52: 3632 | D52: 432000 | E52: 461000
B53: bazén | C53: 3429 | D53: 3480000 | E53: 4013400
B54: plavecký výcvik | C54: 3419 | D54: 100000 | E54: 100000
B55: Celkem dle jiných smluv | D55: =SUM(D51:D54) -> 12933000 | E55: =SUM(E51:E54) -> 13593400
B57: Celkem | D57: =D49+D55 -> 74497000 | E57: =E49+E55 -> 80700000

Sheet List1
